FILENAME: O4610519.NES.1126574.tif
QUADRANGLE_NAME: KINSEY NW
QUADRANT: NE
WEST_LONGITUDE: -105 41 15.00000
EAST_LONGITUDE: -105 37 30.00000
NORTH_LATITUDE: 46 45 0.00000
SOUTH_LATITUDE: 46 41 15.00000
PRODUCTION_DATE: 2001 1 18
RASTER_ORDER: LEFT_RIGHT/TOP_BOTTOM
BAND_ORGANIZATION: SINGLE FILE
BAND_CONTENT: BLACK&WHITE
BAND_CONTENT: UNDEFINED
BAND_CONTENT: UNDEFINED
BITS_PER_PIXEL: 8
SAMPLES_AND_LINES: 5488 7597
HORIZONTAL_DATUM: NAD83
HORIZONTAL_COORDINATE_SYSTEM: UTM
COORDINATE_ZONE: 13
HORIZONTAL_UNITS: meters
HORIZONTAL_RESOLUTION: 1.00000
SECONDARY_HORIZONTAL_DATUM: NAD27
XY_ORIGIN: 447080.00000 5177919.00000
SECONDARY_XY_ORIGIN: 447121.01000 5177699.63400
NATION: US
STATE: MT
NW_QUAD_CORNER_XY: 447489.19300 5177612.59900
NE_QUAD_CORNER_XY: 452262.89100 5177572.77300
SE_QUAD_CORNERY_XY: 452207.73700 5170627.74100
SW_QUAD_CORNER_XY: 447428.52300 5170667.57300
SECONDARY_NW_QUAD_XY: 447487.58300 5177394.19200
SECONDARY_NE_QUAD_XY: 452261.42800 5177354.36400
SECONDARY_SE_QUAD_XY: 452206.27400 5170409.36500
SECONDARY_SW_QUAD_XY: 447426.91400 5170449.19800
RMSE_XY: 2.45000
IMAGE_SOURCE: BLACK AND WHITE FILM
SOURCE_IMAGE_ID: NAPP 9105-063
SOURCE_IMAGE_DATE: 1996 8 1
SOURCE_IMAGE_ID: NAPP 9105-062
SOURCE_IMAGE_DATE: 1996 8 1
SOURCE_DEM_DATE: 1999 0 0
AGENCY: WESTERN MAPPING CENTER (WMC)
PRODUCER: WOOLPERT LLP
PRODUCTION_SYSTEM: INTERGRAPH ISPM, ISIR
COMPRESSION: UNDEFINED
STANDARD_VERSION: 1996 12
METADATA_DATE: 2001 1 31
DATA_FILE_SIZE: 41697824
BYTE_COUNT: 5488
