FILENAME: O4610519.NWS.1126575.tif
QUADRANGLE_NAME: KINSEY NW
QUADRANT: NW
WEST_LONGITUDE: -105 45 0.00000
EAST_LONGITUDE: -105 41 15.00000
NORTH_LATITUDE: 46 45 0.00000
SOUTH_LATITUDE: 46 41 15.00000
PRODUCTION_DATE: 2001 1 18
RASTER_ORDER: LEFT_RIGHT/TOP_BOTTOM
BAND_ORGANIZATION: SINGLE FILE
BAND_CONTENT: BLACK&WHITE
BAND_CONTENT: UNDEFINED
BAND_CONTENT: UNDEFINED
BITS_PER_PIXEL: 8
SAMPLES_AND_LINES: 5494 7601
HORIZONTAL_DATUM: NAD83
HORIZONTAL_COORDINATE_SYSTEM: UTM
COORDINATE_ZONE: 13
HORIZONTAL_UNITS: meters
HORIZONTAL_RESOLUTION: 1.00000
SECONDARY_HORIZONTAL_DATUM: NAD27
XY_ORIGIN: 442301.00000 5177963.00000
SECONDARY_XY_ORIGIN: 442342.07600 5177743.63200
NATION: US
STATE: MT
NW_QUAD_CORNER_XY: 442715.49900 5177656.21900
NE_QUAD_CORNER_XY: 447489.19300 5177612.59900
SE_QUAD_CORNERY_XY: 447428.52300 5170667.57300
SW_QUAD_CORNER_XY: 442649.31300 5170711.19800
SECONDARY_NW_QUAD_XY: 442713.74300 5177437.81300
SECONDARY_NE_QUAD_XY: 447487.58300 5177394.19200
SECONDARY_SE_QUAD_XY: 447426.91400 5170449.19800
SECONDARY_SW_QUAD_XY: 442647.55700 5170492.82500
RMSE_XY: 2.37000
IMAGE_SOURCE: BLACK AND WHITE FILM
SOURCE_IMAGE_ID: NAPP 10721-165
SOURCE_IMAGE_DATE: 1997 8 25
SOURCE_IMAGE_ID: NAPP 10721-166
SOURCE_IMAGE_DATE: 1997 8 25
SOURCE_DEM_DATE: 1999 0 0
AGENCY: WESTERN MAPPING CENTER (WMC)
PRODUCER: WOOLPERT LLP
PRODUCTION_SYSTEM: INTERGRAPH ISPM, ISIR
COMPRESSION: UNDEFINED
STANDARD_VERSION: 1996 12
METADATA_DATE: 2001 1 31
DATA_FILE_SIZE: 41765388
BYTE_COUNT: 5494
