FILENAME: O4610518.NES.1126562.tif
QUADRANGLE_NAME: COAL BANK SPRING
QUADRANT: NE
WEST_LONGITUDE: -105 48 45.00000
EAST_LONGITUDE: -105 45 0.00000
NORTH_LATITUDE: 46 45 0.00000
SOUTH_LATITUDE: 46 41 15.00000
PRODUCTION_DATE: 2001 1 17
RASTER_ORDER: LEFT_RIGHT/TOP_BOTTOM
BAND_ORGANIZATION: SINGLE FILE
BAND_CONTENT: BLACK&WHITE
BAND_CONTENT: UNDEFINED
BAND_CONTENT: UNDEFINED
BITS_PER_PIXEL: 8
SAMPLES_AND_LINES: 5499 7604
HORIZONTAL_DATUM: NAD83
HORIZONTAL_COORDINATE_SYSTEM: UTM
COORDINATE_ZONE: 13
HORIZONTAL_UNITS: meters
HORIZONTAL_RESOLUTION: 1.00000
SECONDARY_HORIZONTAL_DATUM: NAD27
XY_ORIGIN: 437522.00000 5178010.00000
SECONDARY_XY_ORIGIN: 437563.14400 5177790.63900
NATION: US
STATE: MT
NW_QUAD_CORNER_XY: 437941.80900 5177703.63300
NE_QUAD_CORNER_XY: 442715.49900 5177656.21900
SE_QUAD_CORNERY_XY: 442649.31300 5170711.19800
SW_QUAD_CORNER_XY: 437870.10700 5170758.61800
SECONDARY_NW_QUAD_XY: 437939.90700 5177485.22800
SECONDARY_NE_QUAD_XY: 442713.74300 5177437.81300
SECONDARY_SE_QUAD_XY: 442647.55700 5170492.82500
SECONDARY_SW_QUAD_XY: 437868.20500 5170540.24600
RMSE_XY: 2.22000
IMAGE_SOURCE: BLACK AND WHITE FILM
SOURCE_IMAGE_ID: NAPP 9086-137
SOURCE_IMAGE_DATE: 1996 6 13
SOURCE_IMAGE_ID: NAPP 9086-136
SOURCE_IMAGE_DATE: 1996 6 13
SOURCE_DEM_DATE: 1999 0 0
AGENCY: WESTERN MAPPING CENTER (WMC)
PRODUCER: WOOLPERT LLP
PRODUCTION_SYSTEM: INTERGRAPH ISPM, ISIR
COMPRESSION: UNDEFINED
STANDARD_VERSION: 1996 12
METADATA_DATE: 2001 1 31
DATA_FILE_SIZE: 41819895
BYTE_COUNT: 5499
