FILENAME: O4610517.NES.1126550.tif
QUADRANGLE_NAME: HORSE CREEK HILL
QUADRANT: NE
WEST_LONGITUDE: -105 56 15.00000
EAST_LONGITUDE: -105 52 30.00000
NORTH_LATITUDE: 46 45 0.00000
SOUTH_LATITUDE: 46 41 15.00000
PRODUCTION_DATE: 2001 1 17
RASTER_ORDER: LEFT_RIGHT/TOP_BOTTOM
BAND_ORGANIZATION: SINGLE FILE
BAND_CONTENT: BLACK&WHITE
BAND_CONTENT: UNDEFINED
BAND_CONTENT: UNDEFINED
BITS_PER_PIXEL: 8
SAMPLES_AND_LINES: 5511 7612
HORIZONTAL_DATUM: NAD83
HORIZONTAL_COORDINATE_SYSTEM: UTM
COORDINATE_ZONE: 13
HORIZONTAL_UNITS: meters
HORIZONTAL_RESOLUTION: 1.00000
SECONDARY_HORIZONTAL_DATUM: NAD27
XY_ORIGIN: 427963.00000 5178116.00000
SECONDARY_XY_ORIGIN: 428004.27800 5177896.65200
NATION: US
STATE: MT
NW_QUAD_CORNER_XY: 428394.44200 5177809.84000
NE_QUAD_CORNER_XY: 433168.12300 5177754.84000
SE_QUAD_CORNERY_XY: 433090.90500 5170809.83100
SW_QUAD_CORNER_XY: 428311.70700 5170864.83900
SECONDARY_NW_QUAD_XY: 428392.24700 5177591.43900
SECONDARY_NE_QUAD_XY: 433166.07500 5177536.43700
SECONDARY_SE_QUAD_XY: 433088.85600 5170591.46100
SECONDARY_SW_QUAD_XY: 428309.51300 5170646.47000
RMSE_XY: 2.07000
IMAGE_SOURCE: BLACK AND WHITE FILM
SOURCE_IMAGE_ID: NAPP 9088-065
SOURCE_IMAGE_DATE: 1996 7 7
SOURCE_DEM_DATE: 1987 0 0
AGENCY: WESTERN MAPPING CENTER (WMC)
PRODUCER: WOOLPERT LLP
PRODUCTION_SYSTEM: INTERGRAPH ISPM, ISIR
COMPRESSION: UNDEFINED
STANDARD_VERSION: 1996 12
METADATA_DATE: 2001 1 17
DATA_FILE_SIZE: 41955243
BYTE_COUNT: 5511
