FILENAME: O4610517.SWS.1126553.tif
QUADRANGLE_NAME: HORSE CREEK HILL
QUADRANT: SW
WEST_LONGITUDE: -106 0 0.00000
EAST_LONGITUDE: -105 56 15.00000
NORTH_LATITUDE: 46 41 15.00000
SOUTH_LATITUDE: 46 37 30.00000
PRODUCTION_DATE: 2001 1 17
RASTER_ORDER: LEFT_RIGHT/TOP_BOTTOM
BAND_ORGANIZATION: SINGLE FILE
BAND_CONTENT: BLACK&WHITE
BAND_CONTENT: UNDEFINED
BAND_CONTENT: UNDEFINED
BITS_PER_PIXEL: 8
SAMPLES_AND_LINES: 5522 7616
HORIZONTAL_DATUM: NAD83
HORIZONTAL_COORDINATE_SYSTEM: UTM
COORDINATE_ZONE: 13
HORIZONTAL_UNITS: meters
HORIZONTAL_RESOLUTION: 1.00000
SECONDARY_HORIZONTAL_DATUM: NAD27
XY_ORIGIN: 423095.00000 5171230.00000
SECONDARY_XY_ORIGIN: 423136.29800 5171010.71000
NATION: US
STATE: MT
NW_QUAD_CORNER_XY: 423532.51500 5170923.64100
NE_QUAD_CORNER_XY: 428311.70700 5170864.83900
SE_QUAD_CORNERY_XY: 428229.05800 5163919.91200
SW_QUAD_CORNER_XY: 423444.35500 5163978.72100
SECONDARY_NW_QUAD_XY: 423530.17400 5170705.27400
SECONDARY_NE_QUAD_XY: 428309.51300 5170646.47000
SECONDARY_SE_QUAD_XY: 428226.86400 5163701.57600
SECONDARY_SW_QUAD_XY: 423442.01400 5163760.38700
RMSE_XY: 1.93000
IMAGE_SOURCE: BLACK AND WHITE FILM
SOURCE_IMAGE_ID: NAPP 9088-199
SOURCE_IMAGE_DATE: 1996 7 7
SOURCE_DEM_DATE: 1987 0 0
AGENCY: WESTERN MAPPING CENTER (WMC)
PRODUCER: WOOLPERT LLP
PRODUCTION_SYSTEM: INTERGRAPH ISPM, ISIR
COMPRESSION: UNDEFINED
STANDARD_VERSION: 1996 12
METADATA_DATE: 2001 1 17
DATA_FILE_SIZE: 42061074
BYTE_COUNT: 5522
