FILENAME: O4610516.NES.1163712.tif
QUADRANGLE_NAME: FALLON
QUADRANT: NE
WEST_LONGITUDE: -105 3 45.00000
EAST_LONGITUDE: -105 0 0.00000
NORTH_LATITUDE: 46 52 30.00000
SOUTH_LATITUDE: 46 48 45.00000
PRODUCTION_DATE: 2001 8 28
RASTER_ORDER: LEFT_RIGHT/TOP_BOTTOM
BAND_ORGANIZATION: SINGLE FILE
BAND_CONTENT: BLACK&WHITE
BAND_CONTENT: UNDEFINED
BAND_CONTENT: UNDEFINED
BITS_PER_PIXEL: 8
SAMPLES_AND_LINES: 5419 7559
HORIZONTAL_DATUM: NAD83
HORIZONTAL_COORDINATE_SYSTEM: UTM
COORDINATE_ZONE: 13
HORIZONTAL_UNITS: meters
HORIZONTAL_RESOLUTION: 1.00000
SECONDARY_HORIZONTAL_DATUM: NAD27
XY_ORIGIN: 494886.00000 5191582.00000
SECONDARY_XY_ORIGIN: 494926.30300 5191362.54100
NATION: US
STATE: MT
NW_QUAD_CORNER_XY: 495237.33100 5191275.36200
NE_QUAD_CORNER_XY: 500000.00000 5191273.46600
SE_QUAD_CORNERY_XY: 500000.00000 5184328.25800
SW_QUAD_CORNER_XY: 495231.80400 5184330.15400
SECONDARY_NW_QUAD_XY: 495237.18500 5191056.88600
SECONDARY_NE_QUAD_XY: 500000.00000 5191054.99000
SECONDARY_SE_QUAD_XY: 500000.00000 5184109.81200
SECONDARY_SW_QUAD_XY: 495231.65800 5184111.70900
RMSE_XY: 2.62000
IMAGE_SOURCE: BLACK AND WHITE FILM
SOURCE_IMAGE_ID: NAPP 9096-210
SOURCE_IMAGE_DATE: 1996 7 9
SOURCE_DEM_DATE: 1999 0 0
AGENCY: WESTERN MAPPING CENTER (WMC)
PRODUCER: WOOLPERT LLP
PRODUCTION_SYSTEM: INTERGRAPH ISPM, ISIR
COMPRESSION: UNDEFINED
STANDARD_VERSION: 1996 12
METADATA_DATE: 2001 8 28
DATA_FILE_SIZE: 40967640
BYTE_COUNT: 5419
