FILENAME: O4610515.SES.1163750.tif
QUADRANGLE_NAME: FALLON SW
QUADRANT: SE
WEST_LONGITUDE: -105 11 15.00000
EAST_LONGITUDE: -105 7 30.00000
NORTH_LATITUDE: 46 48 45.00000
SOUTH_LATITUDE: 46 45 0.00000
PRODUCTION_DATE: 2001 9 4
RASTER_ORDER: LEFT_RIGHT/TOP_BOTTOM
BAND_ORGANIZATION: SINGLE FILE
BAND_CONTENT: BLACK&WHITE
BAND_CONTENT: UNDEFINED
BAND_CONTENT: UNDEFINED
BITS_PER_PIXEL: 8
SAMPLES_AND_LINES: 5437 7567
HORIZONTAL_DATUM: NAD83
HORIZONTAL_COORDINATE_SYSTEM: UTM
COORDINATE_ZONE: 13
HORIZONTAL_UNITS: meters
HORIZONTAL_RESOLUTION: 1.00000
SECONDARY_HORIZONTAL_DATUM: NAD27
XY_ORIGIN: 485332.00000 5184652.00000
SECONDARY_XY_ORIGIN: 485372.48900 5184432.61900
NATION: US
STATE: MT
NW_QUAD_CORNER_XY: 485695.41500 5184345.32300
NE_QUAD_CORNER_XY: 490463.60900 5184335.84300
SE_QUAD_CORNERY_XY: 490452.56700 5177390.71200
SW_QUAD_CORNER_XY: 485678.85200 5177400.19400
SECONDARY_NW_QUAD_XY: 485694.97600 5184126.87900
SECONDARY_NE_QUAD_XY: 490463.31700 5184117.39700
SECONDARY_SE_QUAD_XY: 490452.27500 5177172.29800
SECONDARY_SW_QUAD_XY: 485678.41300 5177181.78000
RMSE_XY: 2.14000
IMAGE_SOURCE: BLACK AND WHITE FILM
SOURCE_IMAGE_ID: NAPP 9119-139
SOURCE_IMAGE_DATE: 1996 8 26
SOURCE_IMAGE_ID: NAPP 9119-123
SOURCE_IMAGE_DATE: 1996 8 26
SOURCE_DEM_DATE: 1999 0 0
AGENCY: WESTERN MAPPING CENTER (WMC)
PRODUCER: WOOLPERT LLP
PRODUCTION_SYSTEM: INTERGRAPH ISPM, ISIR
COMPRESSION: UNDEFINED
STANDARD_VERSION: 1996 12
METADATA_DATE: 2001 9 10
DATA_FILE_SIZE: 41147216
BYTE_COUNT: 5437
