FILENAME: O4610514.NES.1163736.tif
QUADRANGLE_NAME: TERRY
QUADRANT: NE
WEST_LONGITUDE: -105 18 45.00000
EAST_LONGITUDE: -105 15 0.00000
NORTH_LATITUDE: 46 52 30.00000
SOUTH_LATITUDE: 46 48 45.00000
PRODUCTION_DATE: 2001 9 7
RASTER_ORDER: LEFT_RIGHT/TOP_BOTTOM
BAND_ORGANIZATION: SINGLE FILE
BAND_CONTENT: BLACK&WHITE
BAND_CONTENT: UNDEFINED
BAND_CONTENT: UNDEFINED
BITS_PER_PIXEL: 8
SAMPLES_AND_LINES: 5443 7574
HORIZONTAL_DATUM: NAD83
HORIZONTAL_COORDINATE_SYSTEM: UTM
COORDINATE_ZONE: 13
HORIZONTAL_UNITS: meters
HORIZONTAL_RESOLUTION: 1.00000
SECONDARY_HORIZONTAL_DATUM: NAD27
XY_ORIGIN: 475812.00000 5191627.00000
SECONDARY_XY_ORIGIN: 475852.60400 5191407.51700
NATION: US
STATE: MT
NW_QUAD_CORNER_XY: 476186.66300 5191320.86400
NE_QUAD_CORNER_XY: 480949.32800 5191303.80100
SE_QUAD_CORNERY_XY: 480927.22100 5184358.59700
SW_QUAD_CORNER_XY: 476159.02900 5184375.66300
SECONDARY_NW_QUAD_XY: 476185.93100 5191102.38900
SECONDARY_NE_QUAD_XY: 480948.74300 5191085.32500
SECONDARY_SE_QUAD_XY: 480926.63600 5184140.15200
SECONDARY_SW_QUAD_XY: 476158.29800 5184157.21900
RMSE_XY: 2.12000
IMAGE_SOURCE: BLACK AND WHITE FILM
SOURCE_IMAGE_ID: NAPP 9116-205
SOURCE_IMAGE_DATE: 1996 8 27
SOURCE_IMAGE_ID: NAPP 9116-204
SOURCE_IMAGE_DATE: 1996 8 27
SOURCE_IMAGE_ID: NAPP 9116-064
SOURCE_IMAGE_DATE: 1996 8 27
SOURCE_IMAGE_ID: NAPP 9116-066
SOURCE_IMAGE_DATE: 1996 8 27
SOURCE_DEM_DATE: 1999 0 0
AGENCY: WESTERN MAPPING CENTER (WMC)
PRODUCER: WOOLPERT LLP
PRODUCTION_SYSTEM: INTERGRAPH ISPM, ISIR
COMPRESSION: UNDEFINED
STANDARD_VERSION: 1996 12
METADATA_DATE: 2001 9 24
DATA_FILE_SIZE: 41230725
BYTE_COUNT: 5443
