FILENAME: O4610513.SWS.1163727.tif
QUADRANGLE_NAME: CALYPSO
QUADRANT: SW
WEST_LONGITUDE: -105 30 0.00000
EAST_LONGITUDE: -105 26 15.00000
NORTH_LATITUDE: 46 48 45.00000
SOUTH_LATITUDE: 46 45 0.00000
PRODUCTION_DATE: 2001 9 7
RASTER_ORDER: LEFT_RIGHT/TOP_BOTTOM
BAND_ORGANIZATION: SINGLE FILE
BAND_CONTENT: BLACK&WHITE
BAND_CONTENT: UNDEFINED
BAND_CONTENT: UNDEFINED
BITS_PER_PIXEL: 8
SAMPLES_AND_LINES: 5465 7585
HORIZONTAL_DATUM: NAD83
HORIZONTAL_COORDINATE_SYSTEM: UTM
COORDINATE_ZONE: 13
HORIZONTAL_UNITS: meters
HORIZONTAL_RESOLUTION: 1.00000
SECONDARY_HORIZONTAL_DATUM: NAD27
XY_ORIGIN: 461463.00000 5184756.00000
SECONDARY_XY_ORIGIN: 461503.79900 5184536.57200
NATION: US
STATE: MT
NW_QUAD_CORNER_XY: 461854.46500 5184449.61500
NE_QUAD_CORNER_XY: 466622.65100 5184421.17100
SE_QUAD_CORNERY_XY: 466584.00400 5177476.05200
SW_QUAD_CORNER_XY: 461810.29700 5177504.49900
SECONDARY_NW_QUAD_XY: 461853.29400 5184231.17300
SECONDARY_NE_QUAD_XY: 466621.62600 5184202.72900
SECONDARY_SE_QUAD_XY: 466582.97900 5177257.64100
SECONDARY_SW_QUAD_XY: 461809.12600 5177286.08900
RMSE_XY: 2.25000
IMAGE_SOURCE: BLACK AND WHITE FILM
SOURCE_IMAGE_ID: NAPP 9093-201
SOURCE_IMAGE_DATE: 1996 7 9
SOURCE_IMAGE_ID: NAPP 9093-200
SOURCE_IMAGE_DATE: 1996 7 9
SOURCE_IMAGE_ID: NAPP 9093-057
SOURCE_IMAGE_DATE: 1996 7 9
SOURCE_IMAGE_ID: NAPP 9094-016
SOURCE_IMAGE_DATE: 1996 7 9
SOURCE_DEM_DATE: 1999 0 0
AGENCY: WESTERN MAPPING CENTER (WMC)
PRODUCER: WOOLPERT LLP
PRODUCTION_SYSTEM: INTERGRAPH ISPM, ISIR
COMPRESSION: UNDEFINED
STANDARD_VERSION: 1996 12
METADATA_DATE: 2001 9 19
DATA_FILE_SIZE: 41457490
BYTE_COUNT: 5465
