FILENAME: O4610510.NES.1163842.tif
QUADRANGLE_NAME: MOREHOUSE CREEK
QUADRANT: NE
WEST_LONGITUDE: -105 48 45.00000
EAST_LONGITUDE: -105 45 0.00000
NORTH_LATITUDE: 46 52 30.00000
SOUTH_LATITUDE: 46 48 45.00000
PRODUCTION_DATE: 2001 9 18
RASTER_ORDER: LEFT_RIGHT/TOP_BOTTOM
BAND_ORGANIZATION: SINGLE FILE
BAND_CONTENT: BLACK&WHITE
BAND_CONTENT: UNDEFINED
BAND_CONTENT: UNDEFINED
BITS_PER_PIXEL: 8
SAMPLES_AND_LINES: 5489 7604
HORIZONTAL_DATUM: NAD83
HORIZONTAL_COORDINATE_SYSTEM: UTM
COORDINATE_ZONE: 13
HORIZONTAL_UNITS: meters
HORIZONTAL_RESOLUTION: 1.00000
SECONDARY_HORIZONTAL_DATUM: NAD27
XY_ORIGIN: 437665.00000 5191900.00000
SECONDARY_XY_ORIGIN: 437706.17700 5191680.53300
NATION: US
STATE: MT
NW_QUAD_CORNER_XY: 438085.43700 5191593.88600
NE_QUAD_CORNER_XY: 442848.07700 5191546.48500
SE_QUAD_CORNERY_XY: 442781.75400 5184601.31500
SW_QUAD_CORNER_XY: 438013.58600 5184648.72200
SECONDARY_NW_QUAD_XY: 438083.53400 5191375.42000
SECONDARY_NE_QUAD_XY: 442846.32000 5191328.01800
SECONDARY_SE_QUAD_XY: 442779.99700 5184382.87800
SECONDARY_SW_QUAD_XY: 438011.68300 5184430.28600
RMSE_XY: 2.05000
IMAGE_SOURCE: BLACK AND WHITE FILM
SOURCE_IMAGE_ID: NAPP 9086-141
SOURCE_IMAGE_DATE: 1996 6 13
SOURCE_IMAGE_ID: NAPP 9086-142
SOURCE_IMAGE_DATE: 1996 6 13
SOURCE_IMAGE_ID: NAPP 9086-140
SOURCE_IMAGE_DATE: 1996 6 13
SOURCE_DEM_DATE: 1999 0 0
AGENCY: WESTERN MAPPING CENTER (WMC)
PRODUCER: WOOLPERT LLP
PRODUCTION_SYSTEM: INTERGRAPH ISPM, ISIR
COMPRESSION: UNDEFINED
STANDARD_VERSION: 1996 12
METADATA_DATE: 2001 9 26
DATA_FILE_SIZE: 41743845
BYTE_COUNT: 5489
