FILENAME: O4610509.NES.1163830.tif
QUADRANGLE_NAME: TWIN BUTTES SCHOOL
QUADRANT: NE
WEST_LONGITUDE: -105 56 15.00000
EAST_LONGITUDE: -105 52 30.00000
NORTH_LATITUDE: 46 52 30.00000
SOUTH_LATITUDE: 46 48 45.00000
PRODUCTION_DATE: 2001 9 19
RASTER_ORDER: LEFT_RIGHT/TOP_BOTTOM
BAND_ORGANIZATION: SINGLE FILE
BAND_CONTENT: BLACK&WHITE
BAND_CONTENT: UNDEFINED
BAND_CONTENT: UNDEFINED
BITS_PER_PIXEL: 8
SAMPLES_AND_LINES: 5500 7613
HORIZONTAL_DATUM: NAD83
HORIZONTAL_COORDINATE_SYSTEM: UTM
COORDINATE_ZONE: 13
HORIZONTAL_UNITS: meters
HORIZONTAL_RESOLUTION: 1.00000
SECONDARY_HORIZONTAL_DATUM: NAD27
XY_ORIGIN: 428128.00000 5192007.00000
SECONDARY_XY_ORIGIN: 428169.38100 5191787.56500
NATION: US
STATE: MT
NW_QUAD_CORNER_XY: 428560.17000 5191700.06500
NE_QUAD_CORNER_XY: 433322.80100 5191645.07900
SE_QUAD_CORNERY_XY: 433245.42200 5184699.92200
SW_QUAD_CORNER_XY: 428477.26300 5184754.91500
SECONDARY_NW_QUAD_XY: 428557.97400 5191481.60200
SECONDARY_NE_QUAD_XY: 433320.75100 5191426.61400
SECONDARY_SE_QUAD_XY: 433243.37300 5184481.48800
SECONDARY_SW_QUAD_XY: 428475.06800 5184536.48300
RMSE_XY: 2.30000
IMAGE_SOURCE: BLACK AND WHITE FILM
SOURCE_IMAGE_ID: NAPP 9088-069
SOURCE_IMAGE_DATE: 1996 7 7
SOURCE_IMAGE_ID: NAPP 10766-165
SOURCE_IMAGE_DATE: 1998 7 10
SOURCE_DEM_DATE: 1987 0 0
AGENCY: WESTERN MAPPING CENTER (WMC)
PRODUCER: WOOLPERT LLP
PRODUCTION_SYSTEM: INTERGRAPH ISPM, ISIR
COMPRESSION: UNDEFINED
STANDARD_VERSION: 1996 12
METADATA_DATE: 2001 9 27
DATA_FILE_SIZE: 41877000
BYTE_COUNT: 5500
