FILENAME: O4610509.SES.1163832.tif
QUADRANGLE_NAME: TWIN BUTTES SCHOOL
QUADRANT: SE
WEST_LONGITUDE: -105 56 15.00000
EAST_LONGITUDE: -105 52 30.00000
NORTH_LATITUDE: 46 48 45.00000
SOUTH_LATITUDE: 46 45 0.00000
PRODUCTION_DATE: 2001 9 19
RASTER_ORDER: LEFT_RIGHT/TOP_BOTTOM
BAND_ORGANIZATION: SINGLE FILE
BAND_CONTENT: BLACK&WHITE
BAND_CONTENT: UNDEFINED
BAND_CONTENT: UNDEFINED
BITS_PER_PIXEL: 8
SAMPLES_AND_LINES: 5506 7612
HORIZONTAL_DATUM: NAD83
HORIZONTAL_COORDINATE_SYSTEM: UTM
COORDINATE_ZONE: 13
HORIZONTAL_UNITS: meters
HORIZONTAL_RESOLUTION: 1.00000
SECONDARY_HORIZONTAL_DATUM: NAD27
XY_ORIGIN: 428045.00000 5185061.00000
SECONDARY_XY_ORIGIN: 428086.33000 5184841.60800
NATION: US
STATE: MT
NW_QUAD_CORNER_XY: 428477.26300 5184754.91500
NE_QUAD_CORNER_XY: 433245.42200 5184699.92200
SE_QUAD_CORNERY_XY: 433168.12300 5177754.84000
SW_QUAD_CORNER_XY: 428394.44200 5177809.84000
SECONDARY_NW_QUAD_XY: 428475.06800 5184536.48300
SECONDARY_NE_QUAD_XY: 433243.37300 5184481.48800
SECONDARY_SE_QUAD_XY: 433166.07500 5177536.43700
SECONDARY_SW_QUAD_XY: 428392.24700 5177591.43900
RMSE_XY: 2.35000
IMAGE_SOURCE: BLACK AND WHITE FILM
SOURCE_IMAGE_ID: NAPP 9088-067
SOURCE_IMAGE_DATE: 1996 7 7
SOURCE_DEM_DATE: 1987 0 0
AGENCY: WESTERN MAPPING CENTER (WMC)
PRODUCER: WOOLPERT LLP
PRODUCTION_SYSTEM: INTERGRAPH ISPM, ISIR
COMPRESSION: UNDEFINED
STANDARD_VERSION: 1996 12
METADATA_DATE: 2001 9 19
DATA_FILE_SIZE: 41917178
BYTE_COUNT: 5506
