FILENAME: O4610508.NWS.1163709.tif
QUADRANGLE_NAME: FALLON NE
QUADRANT: NW
WEST_LONGITUDE: -105 7 30.00000
EAST_LONGITUDE: -105 3 45.00000
NORTH_LATITUDE: 47 0 0.00000
SOUTH_LATITUDE: 46 56 15.00000
PRODUCTION_DATE: 2001 8 28
RASTER_ORDER: LEFT_RIGHT/TOP_BOTTOM
BAND_ORGANIZATION: SINGLE FILE
BAND_CONTENT: BLACK&WHITE
BAND_CONTENT: UNDEFINED
BAND_CONTENT: UNDEFINED
BITS_PER_PIXEL: 8
SAMPLES_AND_LINES: 5414 7563
HORIZONTAL_DATUM: NAD83
HORIZONTAL_COORDINATE_SYSTEM: UTM
COORDINATE_ZONE: 13
HORIZONTAL_UNITS: meters
HORIZONTAL_RESOLUTION: 1.00000
SECONDARY_HORIZONTAL_DATUM: NAD27
XY_ORIGIN: 490140.00000 5205478.00000
SECONDARY_XY_ORIGIN: 490180.33000 5205258.34700
NATION: US
STATE: MT
NW_QUAD_CORNER_XY: 490496.80400 5205171.69200
NE_QUAD_CORNER_XY: 495248.40200 5205166.00500
SE_QUAD_CORNERY_XY: 495242.86300 5198220.64500
SW_QUAD_CORNER_XY: 490485.72700 5198226.33200
SECONDARY_NW_QUAD_XY: 490496.51100 5204953.15700
SECONDARY_NE_QUAD_XY: 495248.25500 5204947.47100
SECONDARY_SE_QUAD_XY: 495242.71700 5198002.14000
SECONDARY_SW_QUAD_XY: 490485.43500 5198007.82700
RMSE_XY: 2.46000
IMAGE_SOURCE: BLACK AND WHITE FILM
SOURCE_IMAGE_ID: NAPP 9119-130
SOURCE_IMAGE_DATE: 1996 8 26
SOURCE_IMAGE_ID: NAPP 9119-131
SOURCE_IMAGE_DATE: 1996 8 26
SOURCE_DEM_DATE: 1999 0 0
AGENCY: WESTERN MAPPING CENTER (WMC)
PRODUCER: WOOLPERT LLP
PRODUCTION_SYSTEM: INTERGRAPH ISPM, ISIR
COMPRESSION: UNDEFINED
STANDARD_VERSION: 1996 12
METADATA_DATE: 2001 8 31
DATA_FILE_SIZE: 40951496
BYTE_COUNT: 5414
