FILENAME: O4610506.SES.1163682.tif
QUADRANGLE_NAME: DIAMOND G CREEK
QUADRANT: SE
WEST_LONGITUDE: -105 18 45.00000
EAST_LONGITUDE: -105 15 0.00000
NORTH_LATITUDE: 46 56 15.00000
SOUTH_LATITUDE: 46 52 30.00000
PRODUCTION_DATE: 2001 9 6
RASTER_ORDER: LEFT_RIGHT/TOP_BOTTOM
BAND_ORGANIZATION: SINGLE FILE
BAND_CONTENT: BLACK&WHITE
BAND_CONTENT: UNDEFINED
BAND_CONTENT: UNDEFINED
BITS_PER_PIXEL: 8
SAMPLES_AND_LINES: 5437 7575
HORIZONTAL_DATUM: NAD83
HORIZONTAL_COORDINATE_SYSTEM: UTM
COORDINATE_ZONE: 13
HORIZONTAL_UNITS: meters
HORIZONTAL_RESOLUTION: 1.00000
SECONDARY_HORIZONTAL_DATUM: NAD27
XY_ORIGIN: 475840.00000 5198573.00000
SECONDARY_XY_ORIGIN: 475880.58300 5198353.43600
NATION: US
STATE: MT
NW_QUAD_CORNER_XY: 476214.32500 5198266.14100
NE_QUAD_CORNER_XY: 480971.45800 5198249.08000
SE_QUAD_CORNERY_XY: 480949.32800 5191303.80100
SW_QUAD_CORNER_XY: 476186.66300 5191320.86400
SECONDARY_NW_QUAD_XY: 476213.59300 5198047.63700
SECONDARY_NE_QUAD_XY: 480970.87200 5198030.57600
SECONDARY_SE_QUAD_XY: 480948.74300 5191085.32500
SECONDARY_SW_QUAD_XY: 476185.93100 5191102.38900
RMSE_XY: 2.60000
IMAGE_SOURCE: BLACK AND WHITE FILM
SOURCE_IMAGE_ID: NAPP 9116-203
SOURCE_IMAGE_DATE: 1996 8 27
SOURCE_IMAGE_ID: NAPP 9116-204
SOURCE_IMAGE_DATE: 1996 8 27
SOURCE_IMAGE_ID: NAPP 9116-066
SOURCE_IMAGE_DATE: 1996 8 27
SOURCE_IMAGE_ID: NAPP 9116-067
SOURCE_IMAGE_DATE: 1996 8 27
SOURCE_IMAGE_ID: NAPP 9119-242
SOURCE_IMAGE_DATE: 1996 8 26
SOURCE_DEM_DATE: 1999 0 0
AGENCY: WESTERN MAPPING CENTER (WMC)
PRODUCER: WOOLPERT LLP
PRODUCTION_SYSTEM: INTERGRAPH ISPM, ISIR
COMPRESSION: UNDEFINED
STANDARD_VERSION: 1996 12
METADATA_DATE: 2001 9 24
DATA_FILE_SIZE: 41190712
BYTE_COUNT: 5437
