FILENAME: O4610506.SWS.1163683.tif
QUADRANGLE_NAME: DIAMOND G CREEK
QUADRANT: SW
WEST_LONGITUDE: -105 22 30.00000
EAST_LONGITUDE: -105 18 45.00000
NORTH_LATITUDE: 46 56 15.00000
SOUTH_LATITUDE: 46 52 30.00000
PRODUCTION_DATE: 2001 9 6
RASTER_ORDER: LEFT_RIGHT/TOP_BOTTOM
BAND_ORGANIZATION: SINGLE FILE
BAND_CONTENT: BLACK&WHITE
BAND_CONTENT: UNDEFINED
BAND_CONTENT: UNDEFINED
BITS_PER_PIXEL: 8
SAMPLES_AND_LINES: 5443 7579
HORIZONTAL_DATUM: NAD83
HORIZONTAL_COORDINATE_SYSTEM: UTM
COORDINATE_ZONE: 13
HORIZONTAL_UNITS: meters
HORIZONTAL_RESOLUTION: 1.00000
SECONDARY_HORIZONTAL_DATUM: NAD27
XY_ORIGIN: 471077.00000 5198594.00000
SECONDARY_XY_ORIGIN: 471117.64600 5198374.43600
NATION: US
STATE: MT
NW_QUAD_CORNER_XY: 471457.19400 5198286.99400
NE_QUAD_CORNER_XY: 476214.32500 5198266.14100
SE_QUAD_CORNERY_XY: 476186.66300 5191320.86400
SW_QUAD_CORNER_XY: 471423.99900 5191341.71900
SECONDARY_NW_QUAD_XY: 471456.31600 5198068.49000
SECONDARY_NE_QUAD_XY: 476213.59300 5198047.63700
SECONDARY_SE_QUAD_XY: 476185.93100 5191102.38900
SECONDARY_SW_QUAD_XY: 471423.12100 5191123.24500
RMSE_XY: 2.80000
IMAGE_SOURCE: BLACK AND WHITE FILM
SOURCE_IMAGE_ID: NAPP 9116-067
SOURCE_IMAGE_DATE: 1996 8 27
SOURCE_IMAGE_ID: NAPP 9116-066
SOURCE_IMAGE_DATE: 1996 8 27
SOURCE_IMAGE_ID: NAPP 9116-068
SOURCE_IMAGE_DATE: 1996 8 27
SOURCE_DEM_DATE: 1999 0 0
AGENCY: WESTERN MAPPING CENTER (WMC)
PRODUCER: WOOLPERT LLP
PRODUCTION_SYSTEM: INTERGRAPH ISPM, ISIR
COMPRESSION: UNDEFINED
STANDARD_VERSION: 1996 12
METADATA_DATE: 2001 10 23
DATA_FILE_SIZE: 41257940
BYTE_COUNT: 5443
