FILENAME: O4610505.NWS.1163871.tif
QUADRANGLE_NAME: PAPPS RESERVOIR
QUADRANT: NW
WEST_LONGITUDE: -105 30 0.00000
EAST_LONGITUDE: -105 26 15.00000
NORTH_LATITUDE: 47 0 0.00000
SOUTH_LATITUDE: 46 56 15.00000
PRODUCTION_DATE: 2001 9 11
RASTER_ORDER: LEFT_RIGHT/TOP_BOTTOM
BAND_ORGANIZATION: SINGLE FILE
BAND_CONTENT: BLACK&WHITE
BAND_CONTENT: UNDEFINED
BAND_CONTENT: UNDEFINED
BITS_PER_PIXEL: 8
SAMPLES_AND_LINES: 5448 7586
HORIZONTAL_DATUM: NAD83
HORIZONTAL_COORDINATE_SYSTEM: UTM
COORDINATE_ZONE: 13
HORIZONTAL_UNITS: meters
HORIZONTAL_RESOLUTION: 1.00000
SECONDARY_HORIZONTAL_DATUM: NAD27
XY_ORIGIN: 461596.00000 5205592.00000
SECONDARY_XY_ORIGIN: 461636.75500 5205372.36700
NATION: US
STATE: MT
NW_QUAD_CORNER_XY: 461987.24500 5205285.41500
NE_QUAD_CORNER_XY: 466738.83300 5205256.98400
SE_QUAD_CORNERY_XY: 466700.06500 5198311.63700
SW_QUAD_CORNER_XY: 461942.93900 5198340.07300
SECONDARY_NW_QUAD_XY: 461986.07400 5205066.88400
SECONDARY_NE_QUAD_XY: 466737.80800 5205038.45200
SECONDARY_SE_QUAD_XY: 466699.04100 5198093.13500
SECONDARY_SW_QUAD_XY: 461941.76800 5198121.57100
RMSE_XY: 2.20000
IMAGE_SOURCE: BLACK AND WHITE FILM
SOURCE_IMAGE_ID: NAPP 9093-195
SOURCE_IMAGE_DATE: 1996 7 9
SOURCE_IMAGE_ID: NAPP 9093-194
SOURCE_IMAGE_DATE: 1996 7 9
SOURCE_DEM_DATE: 1999 0 0
AGENCY: WESTERN MAPPING CENTER (WMC)
PRODUCER: WOOLPERT LLP
PRODUCTION_SYSTEM: INTERGRAPH ISPM, ISIR
COMPRESSION: UNDEFINED
STANDARD_VERSION: 1996 12
METADATA_DATE: 2001 9 22
DATA_FILE_SIZE: 41333976
BYTE_COUNT: 5448
