FILENAME: O4610504.SES.1163864.tif
QUADRANGLE_NAME: MCCLOUD
QUADRANT: SE
WEST_LONGITUDE: -105 33 45.00000
EAST_LONGITUDE: -105 30 0.00000
NORTH_LATITUDE: 46 56 15.00000
SOUTH_LATITUDE: 46 52 30.00000
PRODUCTION_DATE: 2001 9 17
RASTER_ORDER: LEFT_RIGHT/TOP_BOTTOM
BAND_ORGANIZATION: SINGLE FILE
BAND_CONTENT: BLACK&WHITE
BAND_CONTENT: UNDEFINED
BAND_CONTENT: UNDEFINED
BITS_PER_PIXEL: 8
SAMPLES_AND_LINES: 5460 7590
HORIZONTAL_DATUM: NAD83
HORIZONTAL_COORDINATE_SYSTEM: UTM
COORDINATE_ZONE: 13
HORIZONTAL_UNITS: meters
HORIZONTAL_RESOLUTION: 1.00000
SECONDARY_HORIZONTAL_DATUM: NAD27
XY_ORIGIN: 456788.00000 5198679.00000
SECONDARY_XY_ORIGIN: 456828.84600 5198459.44100
NATION: US
STATE: MT
NW_QUAD_CORNER_XY: 457185.81600 5198372.30000
NE_QUAD_CORNER_XY: 461942.93900 5198340.07300
SE_QUAD_CORNERY_XY: 461898.67900 5191394.80600
SW_QUAD_CORNER_XY: 457136.02400 5191427.03700
SECONDARY_NW_QUAD_XY: 457184.49900 5198153.79900
SECONDARY_NE_QUAD_XY: 461941.76800 5198121.57100
SECONDARY_SE_QUAD_XY: 461897.50800 5191176.33400
SECONDARY_SW_QUAD_XY: 457134.70600 5191208.56600
RMSE_XY: 3.40000
IMAGE_SOURCE: BLACK AND WHITE FILM
SOURCE_IMAGE_ID: NAPP 9094-021
SOURCE_IMAGE_DATE: 1996 7 9
SOURCE_IMAGE_ID: NAPP 9094-020
SOURCE_IMAGE_DATE: 1996 7 9
SOURCE_DEM_DATE: 1999 0 0
AGENCY: WESTERN MAPPING CENTER (WMC)
PRODUCER: WOOLPERT LLP
PRODUCTION_SYSTEM: INTERGRAPH ISPM, ISIR
COMPRESSION: UNDEFINED
STANDARD_VERSION: 1996 12
METADATA_DATE: 2001 9 24
DATA_FILE_SIZE: 41446860
BYTE_COUNT: 5460
