FILENAME: O4610503.SES.1163852.tif
QUADRANGLE_NAME: SOUTH FORK RESERVOIR
QUADRANT: SE
WEST_LONGITUDE: -105 41 15.00000
EAST_LONGITUDE: -105 37 30.00000
NORTH_LATITUDE: 46 56 15.00000
SOUTH_LATITUDE: 46 52 30.00000
PRODUCTION_DATE: 2001 9 13
RASTER_ORDER: LEFT_RIGHT/TOP_BOTTOM
BAND_ORGANIZATION: SINGLE FILE
BAND_CONTENT: BLACK&WHITE
BAND_CONTENT: UNDEFINED
BAND_CONTENT: UNDEFINED
BITS_PER_PIXEL: 8
SAMPLES_AND_LINES: 5471 7597
HORIZONTAL_DATUM: NAD83
HORIZONTAL_COORDINATE_SYSTEM: UTM
COORDINATE_ZONE: 13
HORIZONTAL_UNITS: meters
HORIZONTAL_RESOLUTION: 1.00000
SECONDARY_HORIZONTAL_DATUM: NAD27
XY_ORIGIN: 447263.00000 5198755.00000
SECONDARY_XY_ORIGIN: 447303.99600 5198535.45300
NATION: US
STATE: MT
NW_QUAD_CORNER_XY: 447671.58100 5198448.12800
NE_QUAD_CORNER_XY: 452428.69700 5198408.31800
SE_QUAD_CORNERY_XY: 452373.37100 5191463.06100
SW_QUAD_CORNER_XY: 447610.72200 5191502.87700
SECONDARY_NW_QUAD_XY: 447669.97000 5198229.63000
SECONDARY_NE_QUAD_XY: 452427.23300 5198189.81800
SECONDARY_SE_QUAD_XY: 452371.90700 5191244.59100
SECONDARY_SW_QUAD_XY: 447609.11200 5191284.40800
RMSE_XY: 2.03000
IMAGE_SOURCE: BLACK AND WHITE FILM
SOURCE_IMAGE_ID: NAPP 9105-069
SOURCE_IMAGE_DATE: 1996 8 1
SOURCE_DEM_DATE: 1999 0 0
AGENCY: WESTERN MAPPING CENTER (WMC)
PRODUCER: WOOLPERT LLP
PRODUCTION_SYSTEM: INTERGRAPH ISPM, ISIR
COMPRESSION: UNDEFINED
STANDARD_VERSION: 1996 12
METADATA_DATE: 2001 9 13
DATA_FILE_SIZE: 41568658
BYTE_COUNT: 5471
