FILENAME: O4610502.SWS.1163841.tif
QUADRANGLE_NAME: LITTLE SHEEP MOUNTAIN
QUADRANT: SW
WEST_LONGITUDE: -105 52 30.00000
EAST_LONGITUDE: -105 48 45.00000
NORTH_LATITUDE: 46 56 15.00000
SOUTH_LATITUDE: 46 52 30.00000
PRODUCTION_DATE: 2001 9 18
RASTER_ORDER: LEFT_RIGHT/TOP_BOTTOM
BAND_ORGANIZATION: SINGLE FILE
BAND_CONTENT: BLACK&WHITE
BAND_CONTENT: UNDEFINED
BAND_CONTENT: UNDEFINED
BITS_PER_PIXEL: 8
SAMPLES_AND_LINES: 5489 7609
HORIZONTAL_DATUM: NAD83
HORIZONTAL_COORDINATE_SYSTEM: UTM
COORDINATE_ZONE: 13
HORIZONTAL_UNITS: meters
HORIZONTAL_RESOLUTION: 1.00000
SECONDARY_HORIZONTAL_DATUM: NAD27
XY_ORIGIN: 432974.00000 5198897.00000
SECONDARY_XY_ORIGIN: 433015.31200 5198677.50300
NATION: US
STATE: MT
NW_QUAD_CORNER_XY: 433400.25900 5198590.31000
NE_QUAD_CORNER_XY: 438157.36200 5198539.12400
SE_QUAD_CORNERY_XY: 438085.43700 5191593.88600
SW_QUAD_CORNER_XY: 433322.80100 5191645.07900
SECONDARY_NW_QUAD_XY: 433398.21000 5198371.81600
SECONDARY_NE_QUAD_XY: 438155.45800 5198320.62900
SECONDARY_SE_QUAD_XY: 438083.53400 5191375.42000
SECONDARY_SW_QUAD_XY: 433320.75100 5191426.61400
RMSE_XY: 2.01000
IMAGE_SOURCE: BLACK AND WHITE FILM
SOURCE_IMAGE_ID: NAPP 10766-164
SOURCE_IMAGE_DATE: 1998 7 10
SOURCE_IMAGE_ID: NAPP 10766-163
SOURCE_IMAGE_DATE: 1998 7 10
SOURCE_IMAGE_ID: NAPP 10766-165
SOURCE_IMAGE_DATE: 1998 7 10
SOURCE_IMAGE_ID: NAPP 9086-142
SOURCE_IMAGE_DATE: 1996 6 13
SOURCE_DEM_DATE: 1999 0 0
AGENCY: WESTERN MAPPING CENTER (WMC)
PRODUCER: WOOLPERT LLP
PRODUCTION_SYSTEM: INTERGRAPH ISPM, ISIR
COMPRESSION: UNDEFINED
STANDARD_VERSION: 1996 12
METADATA_DATE: 2001 9 26
DATA_FILE_SIZE: 41771290
BYTE_COUNT: 5489
