FILENAME: O4610501.NES.1163826.tif
QUADRANGLE_NAME: COMBS RANCH
QUADRANT: NE
WEST_LONGITUDE: -105 56 15.00000
EAST_LONGITUDE: -105 52 30.00000
NORTH_LATITUDE: 47 0 0.00000
SOUTH_LATITUDE: 46 56 15.00000
PRODUCTION_DATE: 2001 9 19
RASTER_ORDER: LEFT_RIGHT/TOP_BOTTOM
BAND_ORGANIZATION: SINGLE FILE
BAND_CONTENT: BLACK&WHITE
BAND_CONTENT: UNDEFINED
BAND_CONTENT: UNDEFINED
BITS_PER_PIXEL: 8
SAMPLES_AND_LINES: 5489 7612
HORIZONTAL_DATUM: NAD83
HORIZONTAL_COORDINATE_SYSTEM: UTM
COORDINATE_ZONE: 13
HORIZONTAL_UNITS: meters
HORIZONTAL_RESOLUTION: 1.00000
SECONDARY_HORIZONTAL_DATUM: NAD27
XY_ORIGIN: 428294.00000 5205897.00000
SECONDARY_XY_ORIGIN: 428335.47700 5205677.48500
NATION: US
STATE: MT
NW_QUAD_CORNER_XY: 428726.24000 5205590.58600
NE_QUAD_CORNER_XY: 433477.79800 5205535.61600
SE_QUAD_CORNERY_XY: 433400.25900 5198590.31000
SW_QUAD_CORNER_XY: 428643.16200 5198645.28800
SECONDARY_NW_QUAD_XY: 428724.04300 5205372.06500
SECONDARY_NE_QUAD_XY: 433475.74800 5205317.09300
SECONDARY_SE_QUAD_XY: 433398.21000 5198371.81600
SECONDARY_SW_QUAD_XY: 428640.96600 5198426.79600
RMSE_XY: 2.10000
IMAGE_SOURCE: BLACK AND WHITE FILM
SOURCE_IMAGE_ID: NAPP 9088-073
SOURCE_IMAGE_DATE: 1996 7 7
SOURCE_IMAGE_ID: NAPP 10766-161
SOURCE_IMAGE_DATE: 1998 7 10
SOURCE_IMAGE_ID: NAPP 10766-162
SOURCE_IMAGE_DATE: 1998 7 10
SOURCE_IMAGE_ID: NAPP 9088-074
SOURCE_IMAGE_DATE: 1996 7 7
SOURCE_DEM_DATE: 1987 0 0
AGENCY: WESTERN MAPPING CENTER (WMC)
PRODUCER: WOOLPERT LLP
PRODUCTION_SYSTEM: INTERGRAPH ISPM, ISIR
COMPRESSION: UNDEFINED
STANDARD_VERSION: 1996 12
METADATA_DATE: 2001 9 27
DATA_FILE_SIZE: 41787757
BYTE_COUNT: 5489
