FILENAME: O4610662.NWS.1008891.tif
QUADRANGLE_NAME: CRAIN PLACE
QUADRANT: NW
WEST_LONGITUDE: -106 22 30.00000
EAST_LONGITUDE: -106 18 45.00000
NORTH_LATITUDE: 46 7 30.00000
SOUTH_LATITUDE: 46 3 45.00000
PRODUCTION_DATE: 1999 5 25
RASTER_ORDER: LEFT_RIGHT/TOP_BOTTOM
BAND_ORGANIZATION: SINGLE FILE
BAND_CONTENT: BLACK&WHITE
BAND_CONTENT: UNDEFINED
BAND_CONTENT: UNDEFINED
BITS_PER_PIXEL: 8
SAMPLES_AND_LINES: 5596 7629
HORIZONTAL_DATUM: NAD83
HORIZONTAL_COORDINATE_SYSTEM: UTM
COORDINATE_ZONE: 13
HORIZONTAL_UNITS: METERS
HORIZONTAL_RESOLUTION: 1.00000
SECONDARY_HORIZONTAL_DATUM: NAD27
XY_ORIGIN: 393305.00000 5109156.00000
SECONDARY_XY_ORIGIN: 393346.08300 5108937.38400
NATION: US
NATION: "SCIENCE
STATE: MT
NW_QUAD_CORNER_XY: 393770.96200 5108854.93000
NE_QUAD_CORNER_XY: 398599.52200 5108773.28200
SE_QUAD_CORNERY_XY: 398484.89300 5101829.05600
SW_QUAD_CORNER_XY: 393650.87300 5101910.71000
SECONDARY_NW_QUAD_XY: 393767.74900 5108636.90400
SECONDARY_NE_QUAD_XY: 398596.45500 5108555.25400
SECONDARY_SE_QUAD_XY: 398481.82600 5101611.06900
SECONDARY_SW_QUAD_XY: 393647.66000 5101692.72500
RMSE_XY: 1.00000
IMAGE_SOURCE: BLACK AND WHITE FILM
SOURCE_IMAGE_ID: NAPP 9097 065
SOURCE_IMAGE_DATE: 1996 07 12
SOURCE_IMAGE_ID: NAPP 9106 243
SOURCE_IMAGE_DATE: 1996 08 07
SOURCE_IMAGE_ID: NAPP 9106 244
SOURCE_IMAGE_DATE: 1996 08 07
SOURCE_DEM_DATE: 1970 00 00
AGENCY: WESTERN MAPPING CENTER (WMC)
PRODUCER: UNDEFINED
PRODUCTION_SYSTEM: GIS/MAGIC
COMPRESSION: UNDEFINED
STANDARD_VERSION: 1996 12
METADATA_DATE: 1999 06 02
DATA_FILE_SIZE: 42697480
BYTE_COUNT: 5596
