FILENAME: O4610662.SWS.1008893.tif
QUADRANGLE_NAME: CRAIN PLACE
QUADRANT: SW
WEST_LONGITUDE: -106 22 30.00000
EAST_LONGITUDE: -106 18 45.00000
NORTH_LATITUDE: 46 3 45.00000
SOUTH_LATITUDE: 46 0 0.00000
PRODUCTION_DATE: 1999 5 24
RASTER_ORDER: LEFT_RIGHT/TOP_BOTTOM
BAND_ORGANIZATION: SINGLE FILE
BAND_CONTENT: BLACK&WHITE
BAND_CONTENT: UNDEFINED
BAND_CONTENT: UNDEFINED
BITS_PER_PIXEL: 8
SAMPLES_AND_LINES: 5601 7630
HORIZONTAL_DATUM: NAD83
HORIZONTAL_COORDINATE_SYSTEM: UTM
COORDINATE_ZONE: 13
HORIZONTAL_UNITS: METERS
HORIZONTAL_RESOLUTION: 1.00000
SECONDARY_HORIZONTAL_DATUM: NAD27
XY_ORIGIN: 393185.00000 5102212.00000
SECONDARY_XY_ORIGIN: 393226.03500 5101993.43200
NATION: US
NATION: "SCIENCE
STATE: MT
NW_QUAD_CORNER_XY: 393650.87300 5101910.71000
NE_QUAD_CORNER_XY: 398484.89300 5101829.05600
SE_QUAD_CORNERY_XY: 398370.38500 5094884.90300
SW_QUAD_CORNER_XY: 393530.91000 5094966.56200
SECONDARY_NW_QUAD_XY: 393647.66000 5101692.72500
SECONDARY_NE_QUAD_XY: 398481.82600 5101611.06900
SECONDARY_SE_QUAD_XY: 398367.31900 5094666.95600
SECONDARY_SW_QUAD_XY: 393527.69800 5094748.61900
RMSE_XY: 1.00000
IMAGE_SOURCE: BLACK AND WHITE FILM
SOURCE_IMAGE_ID: NAPP 9097 067
SOURCE_IMAGE_DATE: 1996 07 12
SOURCE_IMAGE_ID: NAPP 9102 080
SOURCE_IMAGE_DATE: 1996 07 14
SOURCE_DEM_DATE: 1970 00 00
AGENCY: WESTERN MAPPING CENTER (WMC)
PRODUCER: UNDEFINED
PRODUCTION_SYSTEM: GIS/MAGIC
COMPRESSION: UNDEFINED
STANDARD_VERSION: 1996 12
METADATA_DATE: 1999 06 02
DATA_FILE_SIZE: 42741231
BYTE_COUNT: 5601
