FILENAME: O4610652.NWS.1010584.tif
QUADRANGLE_NAME: SMITH CREEK NE
QUADRANT: NW
WEST_LONGITUDE: -106 37 30.00000
EAST_LONGITUDE: -106 33 45.00000
NORTH_LATITUDE: 46 15 0.00000
SOUTH_LATITUDE: 46 11 15.00000
PRODUCTION_DATE: 1999 5 28
RASTER_ORDER: LEFT_RIGHT/TOP_BOTTOM
BAND_ORGANIZATION: SINGLE FILE
BAND_CONTENT: BLACK&WHITE
BAND_CONTENT: UNDEFINED
BAND_CONTENT: UNDEFINED
BITS_PER_PIXEL: 8
SAMPLES_AND_LINES: 5608 7645
HORIZONTAL_DATUM: NAD83
HORIZONTAL_COORDINATE_SYSTEM: UTM
COORDINATE_ZONE: 13
HORIZONTAL_UNITS: METERS
HORIZONTAL_RESOLUTION: 1.00000
SECONDARY_HORIZONTAL_DATUM: NAD27
XY_ORIGIN: 374252.00000 5123409.00000
SECONDARY_XY_ORIGIN: 374293.49700 5123190.50100
NATION: US
NATION: "SCIENCE
STATE: MT
NW_QUAD_CORNER_XY: 374741.09400 5123108.10000
NE_QUAD_CORNER_XY: 379558.69200 5123011.27300
SE_QUAD_CORNERY_XY: 379421.93000 5116066.93400
SW_QUAD_CORNER_XY: 374598.85800 5116163.77000
SECONDARY_NW_QUAD_XY: 374737.29400 5122890.00700
SECONDARY_NE_QUAD_XY: 379555.03900 5122793.17700
SECONDARY_SE_QUAD_XY: 379418.27800 5115848.87600
SECONDARY_SW_QUAD_XY: 374595.06000 5115945.71500
RMSE_XY: 1.10000
IMAGE_SOURCE: BLACK AND WHITE FILM
SOURCE_IMAGE_ID: NAPP 9110 230
SOURCE_IMAGE_DATE: 1996 08 11
SOURCE_IMAGE_ID: NAPP 9110 228
SOURCE_IMAGE_DATE: 1996 08 11
SOURCE_IMAGE_ID: NAPP 9110 049
SOURCE_IMAGE_DATE: 1996 08 11
SOURCE_DEM_DATE: 1970 00 00
AGENCY: WESTERN MAPPING CENTER (WMC)
PRODUCER: UNDEFINED
PRODUCTION_SYSTEM: GIS/MAGIC
COMPRESSION: UNDEFINED
STANDARD_VERSION: 1996 12
METADATA_DATE: 1999 06 07
DATA_FILE_SIZE: 42878768
BYTE_COUNT: 5608
