FILENAME: O4610652.SES.1010585.tif
QUADRANGLE_NAME: SMITH CREEK NE
QUADRANT: SE
WEST_LONGITUDE: -106 33 45.00000
EAST_LONGITUDE: -106 30 0.00000
NORTH_LATITUDE: 46 11 15.00000
SOUTH_LATITUDE: 46 7 30.00000
PRODUCTION_DATE: 1999 5 28
RASTER_ORDER: LEFT_RIGHT/TOP_BOTTOM
BAND_ORGANIZATION: SINGLE FILE
BAND_CONTENT: BLACK&WHITE
BAND_CONTENT: UNDEFINED
BAND_CONTENT: UNDEFINED
BITS_PER_PIXEL: 8
SAMPLES_AND_LINES: 5608 7641
HORIZONTAL_DATUM: NAD83
HORIZONTAL_COORDINATE_SYSTEM: UTM
COORDINATE_ZONE: 13
HORIZONTAL_UNITS: METERS
HORIZONTAL_RESOLUTION: 1.00000
SECONDARY_HORIZONTAL_DATUM: NAD27
XY_ORIGIN: 378939.00000 5116368.00000
SECONDARY_XY_ORIGIN: 378980.36800 5116149.48300
NATION: US
NATION: "SCIENCE
STATE: MT
NW_QUAD_CORNER_XY: 379421.93000 5116066.93400
NE_QUAD_CORNER_XY: 384245.00800 5115973.89700
SE_QUAD_CORNERY_XY: 384113.85700 5109029.62100
SW_QUAD_CORNER_XY: 379285.31300 5109122.66500
SECONDARY_NW_QUAD_XY: 379418.27800 5115848.87600
SECONDARY_NE_QUAD_XY: 384241.50200 5115755.83700
SECONDARY_SE_QUAD_XY: 384110.35200 5108811.60000
SECONDARY_SW_QUAD_XY: 379281.66100 5108904.64700
RMSE_XY: 1.20000
IMAGE_SOURCE: BLACK AND WHITE FILM
SOURCE_IMAGE_ID: NAPP 9110 047
SOURCE_IMAGE_DATE: 1996 08 11
SOURCE_IMAGE_ID: NAPP 9115 148
SOURCE_IMAGE_DATE: 1996 09 10
SOURCE_DEM_DATE: 1970 00 00
AGENCY: WESTERN MAPPING CENTER (WMC)
PRODUCER: UNDEFINED
PRODUCTION_SYSTEM: GIS/MAGIC
COMPRESSION: UNDEFINED
STANDARD_VERSION: 1996 12
METADATA_DATE: 1999 06 07
DATA_FILE_SIZE: 42856336
BYTE_COUNT: 5608
