FILENAME: O4610652.SWS.1010586.tif
QUADRANGLE_NAME: SMITH CREEK NE
QUADRANT: SW
WEST_LONGITUDE: -106 37 30.00000
EAST_LONGITUDE: -106 33 45.00000
NORTH_LATITUDE: 46 11 15.00000
SOUTH_LATITUDE: 46 7 30.00000
PRODUCTION_DATE: 1999 5 28
RASTER_ORDER: LEFT_RIGHT/TOP_BOTTOM
BAND_ORGANIZATION: SINGLE FILE
BAND_CONTENT: BLACK&WHITE
BAND_CONTENT: UNDEFINED
BAND_CONTENT: UNDEFINED
BITS_PER_PIXEL: 8
SAMPLES_AND_LINES: 5613 7645
HORIZONTAL_DATUM: NAD83
HORIZONTAL_COORDINATE_SYSTEM: UTM
COORDINATE_ZONE: 13
HORIZONTAL_UNITS: METERS
HORIZONTAL_RESOLUTION: 1.00000
SECONDARY_HORIZONTAL_DATUM: NAD27
XY_ORIGIN: 374110.00000 5116465.00000
SECONDARY_XY_ORIGIN: 374151.46300 5116246.55300
NATION: US
NATION: "SCIENCE
STATE: MT
NW_QUAD_CORNER_XY: 374598.85800 5116163.77000
NE_QUAD_CORNER_XY: 379421.93000 5116066.93400
SE_QUAD_CORNERY_XY: 379285.31300 5109122.66500
SW_QUAD_CORNER_XY: 374456.77300 5109219.50900
SECONDARY_NW_QUAD_XY: 374595.06000 5115945.71500
SECONDARY_NE_QUAD_XY: 379418.27800 5115848.87600
SECONDARY_SE_QUAD_XY: 379281.66100 5108904.64700
SECONDARY_SW_QUAD_XY: 374452.97600 5109001.49400
RMSE_XY: 1.60000
IMAGE_SOURCE: BLACK AND WHITE FILM
SOURCE_IMAGE_ID: NAPP 9110 232
SOURCE_IMAGE_DATE: 1996 08 11
SOURCE_DEM_DATE: 1970 00 00
AGENCY: WESTERN MAPPING CENTER (WMC)
PRODUCER: UNDEFINED
PRODUCTION_SYSTEM: GIS/MAGIC
COMPRESSION: UNDEFINED
STANDARD_VERSION: 1996 12
METADATA_DATE: 1999 06 07
DATA_FILE_SIZE: 42916998
BYTE_COUNT: 5613
