FILENAME: O4610647.NES.1008900.tif
QUADRANGLE_NAME: HATHAWAY
QUADRANT: NE
WEST_LONGITUDE: -106 11 15.00000
EAST_LONGITUDE: -106 7 30.00000
NORTH_LATITUDE: 46 22 30.00000
SOUTH_LATITUDE: 46 18 45.00000
PRODUCTION_DATE: 1999 5 18
RASTER_ORDER: LEFT_RIGHT/TOP_BOTTOM
BAND_ORGANIZATION: SINGLE FILE
BAND_CONTENT: BLACK&WHITE
BAND_CONTENT: UNDEFINED
BAND_CONTENT: UNDEFINED
BITS_PER_PIXEL: 8
SAMPLES_AND_LINES: 5558 7618
HORIZONTAL_DATUM: NAD83
HORIZONTAL_COORDINATE_SYSTEM: UTM
COORDINATE_ZONE: 13
HORIZONTAL_UNITS: METERS
HORIZONTAL_RESOLUTION: 1.00000
SECONDARY_HORIZONTAL_DATUM: NAD27
XY_ORIGIN: 408223.00000 5136700.00000
SECONDARY_XY_ORIGIN: 408264.12900 5136481.02700
NATION: US
NATION: "SCIENCE
STATE: MT
NW_QUAD_CORNER_XY: 408672.59000 5136399.06800
NE_QUAD_CORNER_XY: 413479.26700 5136328.84200
SE_QUAD_CORNERY_XY: 413380.60100 5129384.30500
SW_QUAD_CORNER_XY: 408568.44200 5129454.53700
SECONDARY_NW_QUAD_XY: 408669.81300 5136180.88000
SECONDARY_NE_QUAD_XY: 413476.63500 5136110.65300
SECONDARY_SE_QUAD_XY: 413377.97100 5129166.15300
SECONDARY_SW_QUAD_XY: 408565.66500 5129236.38700
RMSE_XY: 1.40000
IMAGE_SOURCE: BLACK AND WHITE FILM
SOURCE_IMAGE_ID: NAPP 9106 022
SOURCE_IMAGE_DATE: 1996 08 07
SOURCE_IMAGE_ID: NAPP 9106 111
SOURCE_IMAGE_DATE: 1996 08 07
SOURCE_IMAGE_ID: NAPP 9106 020
SOURCE_IMAGE_DATE: 1996 08 07
SOURCE_IMAGE_ID: NAPP 9106 021
SOURCE_IMAGE_DATE: 1996 08 07
SOURCE_DEM_DATE: 1966 00 00
AGENCY: WESTERN MAPPING CENTER (WMC)
PRODUCER: UNDEFINED
PRODUCTION_SYSTEM: GIS/MAGIC
COMPRESSION: UNDEFINED
STANDARD_VERSION: 1996 12
METADATA_DATE: 1999 06 02
DATA_FILE_SIZE: 42346402
BYTE_COUNT: 5558
