FILENAME: O4610647.SWS.1008906.tif
QUADRANGLE_NAME: HATHAWAY
QUADRANT: SW
WEST_LONGITUDE: -106 15 0.00000
EAST_LONGITUDE: -106 11 15.00000
NORTH_LATITUDE: 46 18 45.00000
SOUTH_LATITUDE: 46 15 0.00000
PRODUCTION_DATE: 1999 5 18
RASTER_ORDER: LEFT_RIGHT/TOP_BOTTOM
BAND_ORGANIZATION: SINGLE FILE
BAND_CONTENT: BLACK&WHITE
BAND_CONTENT: UNDEFINED
BAND_CONTENT: UNDEFINED
BITS_PER_PIXEL: 8
SAMPLES_AND_LINES: 5569 7622
HORIZONTAL_DATUM: NAD83
HORIZONTAL_COORDINATE_SYSTEM: UTM
COORDINATE_ZONE: 13
HORIZONTAL_UNITS: METERS
HORIZONTAL_RESOLUTION: 1.00000
SECONDARY_HORIZONTAL_DATUM: NAD27
XY_ORIGIN: 403301.00000 5129830.00000
SECONDARY_XY_ORIGIN: 403342.10300 5129611.12500
NATION: US
NATION: "SCIENCE
STATE: MT
NW_QUAD_CORNER_XY: 403756.28800 5129528.56700
NE_QUAD_CORNER_XY: 408568.44200 5129454.53700
SE_QUAD_CORNERY_XY: 408464.40400 5122510.08000
SW_QUAD_CORNER_XY: 403646.77200 5122584.11700
SECONDARY_NW_QUAD_XY: 403753.36500 5129310.41900
SECONDARY_NE_QUAD_XY: 408565.66500 5129236.38700
SECONDARY_SE_QUAD_XY: 408461.62700 5122291.96800
SECONDARY_SW_QUAD_XY: 403643.85000 5122366.00700
RMSE_XY: 2.00000
IMAGE_SOURCE: BLACK AND WHITE FILM
SOURCE_IMAGE_ID: NAPP 9106 113
SOURCE_IMAGE_DATE: 1996 08 07
SOURCE_IMAGE_ID: NAPP 9097 046
SOURCE_IMAGE_DATE: 1996 07 12
SOURCE_IMAGE_ID: NAPP 9106 114
SOURCE_IMAGE_DATE: 1996 08 07
SOURCE_IMAGE_ID: NAPP 9106 111
SOURCE_IMAGE_DATE: 1996 08 07
SOURCE_DEM_DATE: 1966 00 00
AGENCY: WESTERN MAPPING CENTER (WMC)
PRODUCER: UNDEFINED
PRODUCTION_SYSTEM: GIS/MAGIC
COMPRESSION: UNDEFINED
STANDARD_VERSION: 1996 12
METADATA_DATE: 1999 06 02
DATA_FILE_SIZE: 42452487
BYTE_COUNT: 5569
