FILENAME: O4610646.SES.1008896.tif
QUADRANGLE_NAME: THURLOW
QUADRANT: SE
WEST_LONGITUDE: -106 18 45.00000
EAST_LONGITUDE: -106 15 0.00000
NORTH_LATITUDE: 46 18 45.00000
SOUTH_LATITUDE: 46 15 0.00000
PRODUCTION_DATE: 1999 5 18
RASTER_ORDER: LEFT_RIGHT/TOP_BOTTOM
BAND_ORGANIZATION: SINGLE FILE
BAND_CONTENT: BLACK&WHITE
BAND_CONTENT: UNDEFINED
BAND_CONTENT: UNDEFINED
BITS_PER_PIXEL: 8
SAMPLES_AND_LINES: 5575 7626
HORIZONTAL_DATUM: NAD83
HORIZONTAL_COORDINATE_SYSTEM: UTM
COORDINATE_ZONE: 13
HORIZONTAL_UNITS: METERS
HORIZONTAL_RESOLUTION: 1.00000
SECONDARY_HORIZONTAL_DATUM: NAD27
XY_ORIGIN: 398483.00000 5129908.00000
SECONDARY_XY_ORIGIN: 398524.16800 5129689.16100
NATION: US
NATION: "SCIENCE
STATE: MT
NW_QUAD_CORNER_XY: 398944.13900 5129606.39400
NE_QUAD_CORNER_XY: 403756.28800 5129528.56700
SE_QUAD_CORNERY_XY: 403646.77200 5122584.11700
SW_QUAD_CORNER_XY: 398829.14500 5122661.95100
SECONDARY_NW_QUAD_XY: 398941.07000 5129388.24900
SECONDARY_NE_QUAD_XY: 403753.36500 5129310.41900
SECONDARY_SE_QUAD_XY: 403643.85000 5122366.00700
SECONDARY_SW_QUAD_XY: 398826.07700 5122443.84400
RMSE_XY: 0.90000
IMAGE_SOURCE: BLACK AND WHITE FILM
SOURCE_IMAGE_ID: NAPP 9097 046
SOURCE_IMAGE_DATE: 1996 07 12
SOURCE_IMAGE_ID: NAPP 9097 059
SOURCE_IMAGE_DATE: 1996 07 12
SOURCE_DEM_DATE: 1966 00 00
AGENCY: WESTERN MAPPING CENTER (WMC)
PRODUCER: UNDEFINED
PRODUCTION_SYSTEM: GIS/MAGIC
COMPRESSION: UNDEFINED
STANDARD_VERSION: 1996 12
METADATA_DATE: 1999 06 02
DATA_FILE_SIZE: 42520525
BYTE_COUNT: 5575
