FILENAME: O4610645.NWS.1008883.tif
QUADRANGLE_NAME: ROSEBUD
QUADRANT: NW
WEST_LONGITUDE: -106 30 0.00000
EAST_LONGITUDE: -106 26 15.00000
NORTH_LATITUDE: 46 22 30.00000
SOUTH_LATITUDE: 46 18 45.00000
PRODUCTION_DATE: 1999 5 17
RASTER_ORDER: LEFT_RIGHT/TOP_BOTTOM
BAND_ORGANIZATION: SINGLE FILE
BAND_CONTENT: BLACK&WHITE
BAND_CONTENT: UNDEFINED
BAND_CONTENT: UNDEFINED
BITS_PER_PIXEL: 8
SAMPLES_AND_LINES: 5586 7637
HORIZONTAL_DATUM: NAD83
HORIZONTAL_COORDINATE_SYSTEM: UTM
COORDINATE_ZONE: 13
HORIZONTAL_UNITS: METERS
HORIZONTAL_RESOLUTION: 1.00000
SECONDARY_HORIZONTAL_DATUM: NAD27
XY_ORIGIN: 384161.00000 5137108.00000
SECONDARY_XY_ORIGIN: 384202.39600 5136889.17500
NATION: US
NATION: "SCIENCE
STATE: MT
NW_QUAD_CORNER_XY: 384639.29100 5136807.15300
NE_QUAD_CORNER_XY: 389445.93900 5136717.94100
SE_QUAD_CORNERY_XY: 389319.85700 5129773.44200
SW_QUAD_CORNER_XY: 384507.72500 5129862.66400
SECONDARY_NW_QUAD_XY: 384635.78200 5136588.97900
SECONDARY_NE_QUAD_XY: 389442.57700 5136499.76400
SECONDARY_SE_QUAD_XY: 389316.49500 5129555.30200
SECONDARY_SW_QUAD_XY: 384504.21700 5129644.52600
RMSE_XY: 1.50000
IMAGE_SOURCE: BLACK AND WHITE FILM
SOURCE_IMAGE_ID: NAPP 9106 308
SOURCE_IMAGE_DATE: 1996 08 07
SOURCE_IMAGE_ID: NAPP 9110 053
SOURCE_IMAGE_DATE: 1996 08 11
SOURCE_IMAGE_ID: NAPP 9106 310
SOURCE_IMAGE_DATE: 1996 08 07
SOURCE_IMAGE_ID: NAPP 9122 040
SOURCE_IMAGE_DATE: 1996 09 11
SOURCE_DEM_DATE: 1966 00 00
AGENCY: WESTERN MAPPING CENTER (WMC)
PRODUCER: UNDEFINED
PRODUCTION_SYSTEM: GIS/MAGIC
COMPRESSION: UNDEFINED
STANDARD_VERSION: 1996 12
METADATA_DATE: 1999 06 02
DATA_FILE_SIZE: 42665868
BYTE_COUNT: 5586
