FILENAME: O4610644.NES.1008676.tif
QUADRANGLE_NAME: ORINOCO
QUADRANT: NE
WEST_LONGITUDE: -106 33 45.00000
EAST_LONGITUDE: -106 30 0.00000
NORTH_LATITUDE: 46 22 30.00000
SOUTH_LATITUDE: 46 18 45.00000
PRODUCTION_DATE: 1999 5 24
RASTER_ORDER: LEFT_RIGHT/TOP_BOTTOM
BAND_ORGANIZATION: SINGLE FILE
BAND_CONTENT: BLACK&WHITE
BAND_CONTENT: UNDEFINED
BAND_CONTENT: UNDEFINED
BITS_PER_PIXEL: 8
SAMPLES_AND_LINES: 5592 7641
HORIZONTAL_DATUM: NAD83
HORIZONTAL_COORDINATE_SYSTEM: UTM
COORDINATE_ZONE: 13
HORIZONTAL_UNITS: METERS
HORIZONTAL_RESOLUTION: 1.00000
SECONDARY_HORIZONTAL_DATUM: NAD27
XY_ORIGIN: 379349.00000 5137201.00000
SECONDARY_XY_ORIGIN: 379390.49200 5136982.25700
NATION: US
NATION: "SCIENCE
STATE: MT
NW_QUAD_CORNER_XY: 379832.64900 5136900.16300
NE_QUAD_CORNER_XY: 384639.29100 5136807.15300
SE_QUAD_CORNERY_XY: 384507.72500 5129862.66400
SW_QUAD_CORNER_XY: 379695.59900 5129955.68300
SECONDARY_NW_QUAD_XY: 379828.99400 5136681.99100
SECONDARY_NE_QUAD_XY: 384635.78200 5136588.97900
SECONDARY_SE_QUAD_XY: 384504.21700 5129644.52600
SECONDARY_SW_QUAD_XY: 379691.94500 5129737.54800
RMSE_XY: 1.80000
IMAGE_SOURCE: BLACK AND WHITE FILM
SOURCE_IMAGE_ID: NAPP 9110 053
SOURCE_IMAGE_DATE: 1996 08 11
SOURCE_IMAGE_ID: NAPP 9110 054
SOURCE_IMAGE_DATE: 1996 08 11
SOURCE_IMAGE_ID: NAPP 9110 055
SOURCE_IMAGE_DATE: 1996 08 11
SOURCE_IMAGE_ID: NAPP 9106 308
SOURCE_IMAGE_DATE: 1996 08 07
SOURCE_DEM_DATE: 1966 00 00
AGENCY: WESTERN MAPPING CENTER (WMC)
PRODUCER: UNDEFINED
PRODUCTION_SYSTEM: GIS/MAGIC
COMPRESSION: UNDEFINED
STANDARD_VERSION: 1996 12
METADATA_DATE: 1999 05 24
DATA_FILE_SIZE: 42734064
BYTE_COUNT: 5592
