FILENAME: O4610643.NWS.1008669.tif
QUADRANGLE_NAME: FORSYTH
QUADRANT: NW
WEST_LONGITUDE: -106 45 0.00000
EAST_LONGITUDE: -106 41 15.00000
NORTH_LATITUDE: 46 22 30.00000
SOUTH_LATITUDE: 46 18 45.00000
PRODUCTION_DATE: 1999 5 14
RASTER_ORDER: LEFT_RIGHT/TOP_BOTTOM
BAND_ORGANIZATION: SINGLE FILE
BAND_CONTENT: BLACK&WHITE
BAND_CONTENT: UNDEFINED
BAND_CONTENT: UNDEFINED
BITS_PER_PIXEL: 8
SAMPLES_AND_LINES: 5609 7652
HORIZONTAL_DATUM: NAD83
HORIZONTAL_COORDINATE_SYSTEM: UTM
COORDINATE_ZONE: 13
HORIZONTAL_UNITS: METERS
HORIZONTAL_RESOLUTION: 1.00000
SECONDARY_HORIZONTAL_DATUM: NAD27
XY_ORIGIN: 364912.00000 5137503.00000
SECONDARY_XY_ORIGIN: 364953.77600 5137284.49400
NATION: US
NATION: "SCIENCE
STATE: MT
NW_QUAD_CORNER_XY: 365412.76500 5137201.98300
NE_QUAD_CORNER_XY: 370219.38600 5137097.57800
SE_QUAD_CORNERY_XY: 370071.36600 5130153.11700
SW_QUAD_CORNER_XY: 365259.26000 5130257.53300
SECONDARY_NW_QUAD_XY: 365408.67200 5136983.82100
SECONDARY_NE_QUAD_XY: 370215.43900 5136879.41200
SECONDARY_SE_QUAD_XY: 370067.42000 5129934.98900
SECONDARY_SW_QUAD_XY: 365255.16700 5130039.40800
RMSE_XY: 1.10000
IMAGE_SOURCE: BLACK AND WHITE FILM
SOURCE_IMAGE_ID: NAPP 9111 244
SOURCE_IMAGE_DATE: 1996 08 11
SOURCE_IMAGE_ID: NAPP 9111 246
SOURCE_IMAGE_DATE: 1996 08 11
SOURCE_IMAGE_ID: NAPP 9111 242
SOURCE_IMAGE_DATE: 1996 08 11
SOURCE_IMAGE_ID: NAPP 9111 071
SOURCE_IMAGE_DATE: 1996 08 11
SOURCE_DEM_DATE: 1966 00 00
AGENCY: WESTERN MAPPING CENTER (WMC)
PRODUCER: UNDEFINED
PRODUCTION_SYSTEM: GIS/MAGIC
COMPRESSION: UNDEFINED
STANDARD_VERSION: 1996 12
METADATA_DATE: 1999 05 24
DATA_FILE_SIZE: 42925677
BYTE_COUNT: 5609
