FILENAME: O4610641.NES.1008621.tif
QUADRANGLE_NAME: FINCH
QUADRANT: NE
WEST_LONGITUDE: -106 56 15.00000
EAST_LONGITUDE: -106 52 30.00000
NORTH_LATITUDE: 46 22 30.00000
SOUTH_LATITUDE: 46 18 45.00000
PRODUCTION_DATE: 1999 5 11
RASTER_ORDER: LEFT_RIGHT/TOP_BOTTOM
BAND_ORGANIZATION: SINGLE FILE
BAND_CONTENT: BLACK&WHITE
BAND_CONTENT: UNDEFINED
BAND_CONTENT: UNDEFINED
BITS_PER_PIXEL: 8
SAMPLES_AND_LINES: 5626 7664
HORIZONTAL_DATUM: NAD83
HORIZONTAL_COORDINATE_SYSTEM: UTM
COORDINATE_ZONE: 13
HORIZONTAL_UNITS: METERS
HORIZONTAL_RESOLUTION: 1.00000
SECONDARY_HORIZONTAL_DATUM: NAD27
XY_ORIGIN: 350475.00000 5137839.00000
SECONDARY_XY_ORIGIN: 350517.07900 5137620.73000
NATION: US
NATION: "SCIENCE
STATE: MT
NW_QUAD_CORNER_XY: 350992.94900 5137537.99300
NE_QUAD_CORNER_XY: 355799.54600 5137422.19000
SE_QUAD_CORNERY_XY: 355635.06900 5130477.76200
SW_QUAD_CORNER_XY: 350822.98500 5130593.57600
SECONDARY_NW_QUAD_XY: 350988.41700 5137319.84000
SECONDARY_NE_QUAD_XY: 355795.16100 5137204.03400
SECONDARY_SE_QUAD_XY: 355630.68400 5130259.64300
SECONDARY_SW_QUAD_XY: 350818.45400 5130375.46100
RMSE_XY: 0.90000
IMAGE_SOURCE: BLACK AND WHITE FILM
SOURCE_IMAGE_ID: NAPP 9085 145
SOURCE_IMAGE_DATE: 1996 06 13
SOURCE_IMAGE_ID: NAPP 9099 057
SOURCE_IMAGE_DATE: 1996 07 14
SOURCE_IMAGE_ID: NAPP 9085 147
SOURCE_IMAGE_DATE: 1996 06 13
SOURCE_IMAGE_ID: NAPP 10723 017
SOURCE_IMAGE_DATE: 1997 08 28
SOURCE_DEM_DATE: 1966 00 00
AGENCY: WESTERN MAPPING CENTER (WMC)
PRODUCER: UNDEFINED
PRODUCTION_SYSTEM: GIS/MAGIC
COMPRESSION: UNDEFINED
STANDARD_VERSION: 1996 12
METADATA_DATE: 1999 05 24
DATA_FILE_SIZE: 43123290
BYTE_COUNT: 5626
