FILENAME: O4610641.SES.1008625.tif
QUADRANGLE_NAME: FINCH
QUADRANT: SE
WEST_LONGITUDE: -106 56 15.00000
EAST_LONGITUDE: -106 52 30.00000
NORTH_LATITUDE: 46 18 45.00000
SOUTH_LATITUDE: 46 15 0.00000
PRODUCTION_DATE: 1999 5 11
RASTER_ORDER: LEFT_RIGHT/TOP_BOTTOM
BAND_ORGANIZATION: SINGLE FILE
BAND_CONTENT: BLACK&WHITE
BAND_CONTENT: UNDEFINED
BAND_CONTENT: UNDEFINED
BITS_PER_PIXEL: 8
SAMPLES_AND_LINES: 5632 7663
HORIZONTAL_DATUM: NAD83
HORIZONTAL_COORDINATE_SYSTEM: UTM
COORDINATE_ZONE: 13
HORIZONTAL_UNITS: METERS
HORIZONTAL_RESOLUTION: 1.00000
SECONDARY_HORIZONTAL_DATUM: NAD27
XY_ORIGIN: 350305.00000 5130894.00000
SECONDARY_XY_ORIGIN: 350347.01300 5130675.78100
NATION: US
NATION: "SCIENCE
STATE: MT
NW_QUAD_CORNER_XY: 350822.98500 5130593.57600
NE_QUAD_CORNER_XY: 355635.06900 5130477.76200
SE_QUAD_CORNERY_XY: 355470.76500 5123533.40200
SW_QUAD_CORNER_XY: 350653.20000 5123649.22700
SECONDARY_NW_QUAD_XY: 350818.45400 5130375.46100
SECONDARY_NE_QUAD_XY: 355630.68400 5130259.64300
SECONDARY_SE_QUAD_XY: 355466.38100 5123315.32100
SECONDARY_SW_QUAD_XY: 350648.67000 5123431.14900
RMSE_XY: 1.30000
IMAGE_SOURCE: BLACK AND WHITE FILM
SOURCE_IMAGE_ID: NAPP 10723 015
SOURCE_IMAGE_DATE: 1997 08 28
SOURCE_IMAGE_ID: NAPP 9099 055
SOURCE_IMAGE_DATE: 1996 07 14
SOURCE_IMAGE_ID: NAPP 10764 050
SOURCE_IMAGE_DATE: 1997 09 20
SOURCE_IMAGE_ID: NAPP 10764 049
SOURCE_IMAGE_DATE: 1997 09 20
SOURCE_IMAGE_ID: NAPP 10723 014
SOURCE_IMAGE_DATE: 1997 08 28
SOURCE_DEM_DATE: 1966 00 00
AGENCY: WESTERN MAPPING CENTER (WMC)
PRODUCER: UNDEFINED
PRODUCTION_SYSTEM: GIS/MAGIC
COMPRESSION: UNDEFINED
STANDARD_VERSION: 1996 12
METADATA_DATE: 1999 05 24
DATA_FILE_SIZE: 43163648
BYTE_COUNT: 5632
