FILENAME: O4610640.NES.1009145.tif
QUADRANGLE_NAME: BUTTERFLY CREEK
QUADRANT: NE
WEST_LONGITUDE: -106 3 45.00000
EAST_LONGITUDE: -106 0 0.00000
NORTH_LATITUDE: 46 30 0.00000
SOUTH_LATITUDE: 46 26 15.00000
PRODUCTION_DATE: 1999 5 11
RASTER_ORDER: LEFT_RIGHT/TOP_BOTTOM
BAND_ORGANIZATION: SINGLE FILE
BAND_CONTENT: BLACK&WHITE
BAND_CONTENT: UNDEFINED
BAND_CONTENT: UNDEFINED
BITS_PER_PIXEL: 8
SAMPLES_AND_LINES: 5536 7611
HORIZONTAL_DATUM: NAD83
HORIZONTAL_COORDINATE_SYSTEM: UTM
COORDINATE_ZONE: 13
HORIZONTAL_UNITS: METERS
HORIZONTAL_RESOLUTION: 1.00000
SECONDARY_HORIZONTAL_DATUM: NAD27
XY_ORIGIN: 418034.00000 5150453.00000
SECONDARY_XY_ORIGIN: 418075.19700 5150233.86700
NATION: US
NATION: "SCIENCE
STATE: MT
NW_QUAD_CORNER_XY: 418472.60700 5150151.72200
NE_QUAD_CORNER_XY: 423268.31000 5150089.10400
SE_QUAD_CORNERY_XY: 423180.42600 5143144.40600
SW_QUAD_CORNER_XY: 418379.22800 5143207.03100
SECONDARY_NW_QUAD_XY: 418470.12100 5149933.45900
SECONDARY_NE_QUAD_XY: 423265.97000 5149870.83800
SECONDARY_SE_QUAD_XY: 423178.08600 5142926.17600
SECONDARY_SW_QUAD_XY: 418376.74300 5142988.80300
RMSE_XY: 1.60000
IMAGE_SOURCE: BLACK AND WHITE FILM
SOURCE_IMAGE_ID: NAPP 9089 050
SOURCE_IMAGE_DATE: 1996 07 07
SOURCE_IMAGE_ID: NAPP 9089 048
SOURCE_IMAGE_DATE: 1996 07 07
SOURCE_DEM_DATE: 1966 00 00
AGENCY: WESTERN MAPPING CENTER (WMC)
PRODUCER: UNDEFINED
PRODUCTION_SYSTEM: GIS/MAGIC
COMPRESSION: UNDEFINED
STANDARD_VERSION: 1996 12
METADATA_DATE: 1999 06 02
DATA_FILE_SIZE: 42140032
BYTE_COUNT: 5536
