FILENAME: O4610640.SWS.1009152.tif
QUADRANGLE_NAME: BUTTERFLY CREEK
QUADRANT: SW
WEST_LONGITUDE: -106 7 30.00000
EAST_LONGITUDE: -106 3 45.00000
NORTH_LATITUDE: 46 26 15.00000
SOUTH_LATITUDE: 46 22 30.00000
PRODUCTION_DATE: 1999 5 11
RASTER_ORDER: LEFT_RIGHT/TOP_BOTTOM
BAND_ORGANIZATION: SINGLE FILE
BAND_CONTENT: BLACK&WHITE
BAND_CONTENT: UNDEFINED
BAND_CONTENT: UNDEFINED
BITS_PER_PIXEL: 8
SAMPLES_AND_LINES: 5547 7615
HORIZONTAL_DATUM: NAD83
HORIZONTAL_COORDINATE_SYSTEM: UTM
COORDINATE_ZONE: 13
HORIZONTAL_UNITS: METERS
HORIZONTAL_RESOLUTION: 1.00000
SECONDARY_HORIZONTAL_DATUM: NAD27
XY_ORIGIN: 413134.00000 5143575.00000
SECONDARY_XY_ORIGIN: 413175.16000 5143355.94100
NATION: US
NATION: "SCIENCE
STATE: MT
NW_QUAD_CORNER_XY: 413578.03600 5143273.45300
NE_QUAD_CORNER_XY: 418379.22800 5143207.03100
SE_QUAD_CORNERY_XY: 418285.94800 5136262.41400
SW_QUAD_CORNER_XY: 413479.26700 5136328.84200
SECONDARY_NW_QUAD_XY: 413575.40400 5143055.22700
SECONDARY_NE_QUAD_XY: 418376.74300 5142988.80300
SECONDARY_SE_QUAD_XY: 418283.46200 5136044.22200
SECONDARY_SW_QUAD_XY: 413476.63500 5136110.65300
RMSE_XY: 1.00000
IMAGE_SOURCE: BLACK AND WHITE FILM
SOURCE_IMAGE_ID: NAPP 9090 059
SOURCE_IMAGE_DATE: 1996 07 07
SOURCE_IMAGE_ID: NAPP 9090 060
SOURCE_IMAGE_DATE: 1996 07 07
SOURCE_DEM_DATE: 1966 00 00
AGENCY: WESTERN MAPPING CENTER (WMC)
PRODUCER: UNDEFINED
PRODUCTION_SYSTEM: GIS/MAGIC
COMPRESSION: UNDEFINED
STANDARD_VERSION: 1996 12
METADATA_DATE: 1999 06 02
DATA_FILE_SIZE: 42245952
BYTE_COUNT: 5547
