FILENAME: O4610638.NES.1008346.tif
QUADRANGLE_NAME: SAND BUTTES
QUADRANT: NE
WEST_LONGITUDE: -106 18 45.00000
EAST_LONGITUDE: -106 15 0.00000
NORTH_LATITUDE: 46 30 0.00000
SOUTH_LATITUDE: 46 26 15.00000
PRODUCTION_DATE: 1999 5 11
RASTER_ORDER: LEFT_RIGHT/TOP_BOTTOM
BAND_ORGANIZATION: SINGLE FILE
BAND_CONTENT: BLACK&WHITE
BAND_CONTENT: UNDEFINED
BAND_CONTENT: UNDEFINED
BITS_PER_PIXEL: 8
SAMPLES_AND_LINES: 5558 7627
HORIZONTAL_DATUM: NAD83
HORIZONTAL_COORDINATE_SYSTEM: UTM
COORDINATE_ZONE: 13
HORIZONTAL_UNITS: METERS
HORIZONTAL_RESOLUTION: 1.00000
SECONDARY_HORIZONTAL_DATUM: NAD27
XY_ORIGIN: 398829.00000 5150742.00000
SECONDARY_XY_ORIGIN: 398870.33400 5150522.88900
NATION: US
NATION: "SCIENCE
STATE: MT
NW_QUAD_CORNER_XY: 399289.84500 5150440.15700
NE_QUAD_CORNER_XY: 404085.52700 5150362.35400
SE_QUAD_CORNERY_XY: 403975.66600 5143417.68600
SW_QUAD_CORNER_XY: 399174.48900 5143495.49700
SECONDARY_NW_QUAD_XY: 399286.77400 5150221.90200
SECONDARY_NE_QUAD_XY: 404082.60200 5150144.09700
SECONDARY_SE_QUAD_XY: 403972.74100 5143199.46400
SECONDARY_SW_QUAD_XY: 399171.41800 5143277.27800
RMSE_XY: 1.60000
IMAGE_SOURCE: BLACK AND WHITE FILM
SOURCE_IMAGE_ID: NAPP 9106 122
SOURCE_IMAGE_DATE: 1996 08 07
SOURCE_IMAGE_ID: NAPP 9106 124
SOURCE_IMAGE_DATE: 1996 08 07
SOURCE_DEM_DATE: 1966 00 00
AGENCY: WESTERN MAPPING CENTER (WMC)
PRODUCER: UNDEFINED
PRODUCTION_SYSTEM: GIS/MAGIC
COMPRESSION: UNDEFINED
STANDARD_VERSION: 1996 12
METADATA_DATE: 1999 06 02
DATA_FILE_SIZE: 42396424
BYTE_COUNT: 5558
