FILENAME: O4610638.NWS.1008347.tif
QUADRANGLE_NAME: SAND BUTTES
QUADRANT: NW
WEST_LONGITUDE: -106 22 30.00000
EAST_LONGITUDE: -106 18 45.00000
NORTH_LATITUDE: 46 30 0.00000
SOUTH_LATITUDE: 46 26 15.00000
PRODUCTION_DATE: 1999 5 11
RASTER_ORDER: LEFT_RIGHT/TOP_BOTTOM
BAND_ORGANIZATION: SINGLE FILE
BAND_CONTENT: BLACK&WHITE
BAND_CONTENT: UNDEFINED
BAND_CONTENT: UNDEFINED
BITS_PER_PIXEL: 8
SAMPLES_AND_LINES: 5564 7630
HORIZONTAL_DATUM: NAD83
HORIZONTAL_COORDINATE_SYSTEM: UTM
COORDINATE_ZONE: 13
HORIZONTAL_UNITS: METERS
HORIZONTAL_RESOLUTION: 1.00000
SECONDARY_HORIZONTAL_DATUM: NAD27
XY_ORIGIN: 394027.00000 5150823.00000
SECONDARY_XY_ORIGIN: 394068.38100 5150603.92400
NATION: US
NATION: "SCIENCE
STATE: MT
NW_QUAD_CORNER_XY: 394494.16900 5150521.75600
NE_QUAD_CORNER_XY: 399289.84500 5150440.15700
SE_QUAD_CORNERY_XY: 399174.48900 5143495.49700
SW_QUAD_CORNER_XY: 394373.31800 5143577.10600
SECONDARY_NW_QUAD_XY: 394490.95200 5150303.50400
SECONDARY_NE_QUAD_XY: 399286.77400 5150221.90200
SECONDARY_SE_QUAD_XY: 399171.41800 5143277.27800
SECONDARY_SW_QUAD_XY: 394370.10100 5143358.88900
RMSE_XY: 1.20000
IMAGE_SOURCE: BLACK AND WHITE FILM
SOURCE_IMAGE_ID: NAPP 9097 053
SOURCE_IMAGE_DATE: 1996 07 12
SOURCE_IMAGE_ID: NAPP 9122 044
SOURCE_IMAGE_DATE: 1996 09 11
SOURCE_IMAGE_ID: NAPP 9097 052
SOURCE_IMAGE_DATE: 1996 07 12
SOURCE_DEM_DATE: 1966 00 00
AGENCY: WESTERN MAPPING CENTER (WMC)
PRODUCER: UNDEFINED
PRODUCTION_SYSTEM: GIS/MAGIC
COMPRESSION: UNDEFINED
STANDARD_VERSION: 1996 12
METADATA_DATE: 1999 06 02
DATA_FILE_SIZE: 42458884
BYTE_COUNT: 5564
