FILENAME: O4610637.NWS.1008311.tif
QUADRANGLE_NAME: BOX CANYON COULEE
QUADRANT: NW
WEST_LONGITUDE: -106 30 0.00000
EAST_LONGITUDE: -106 26 15.00000
NORTH_LATITUDE: 46 30 0.00000
SOUTH_LATITUDE: 46 26 15.00000
PRODUCTION_DATE: 1999 5 11
RASTER_ORDER: LEFT_RIGHT/TOP_BOTTOM
BAND_ORGANIZATION: SINGLE FILE
BAND_CONTENT: BLACK&WHITE
BAND_CONTENT: UNDEFINED
BAND_CONTENT: UNDEFINED
BITS_PER_PIXEL: 8
SAMPLES_AND_LINES: 5575 7638
HORIZONTAL_DATUM: NAD83
HORIZONTAL_COORDINATE_SYSTEM: UTM
COORDINATE_ZONE: 13
HORIZONTAL_UNITS: METERS
HORIZONTAL_RESOLUTION: 1.00000
SECONDARY_HORIZONTAL_DATUM: NAD27
XY_ORIGIN: 384425.00000 5150998.00000
SECONDARY_XY_ORIGIN: 384466.47600 5150778.99500
NATION: US
NATION: "SCIENCE
STATE: MT
NW_QUAD_CORNER_XY: 384902.83700 5150696.34600
NE_QUAD_CORNER_XY: 389698.50000 5150607.15300
SE_QUAD_CORNERY_XY: 389572.15300 5143662.51100
SW_QUAD_CORNER_XY: 384770.99500 5143751.71400
SECONDARY_NW_QUAD_XY: 384899.32800 5150478.09900
SECONDARY_NE_QUAD_XY: 389695.13700 5150388.90300
SECONDARY_SE_QUAD_XY: 389568.79000 5143444.29700
SECONDARY_SW_QUAD_XY: 384767.48600 5143533.50300
RMSE_XY: 0.80000
IMAGE_SOURCE: BLACK AND WHITE FILM
SOURCE_IMAGE_ID: NAPP 9106 304
SOURCE_IMAGE_DATE: 1996 08 07
SOURCE_IMAGE_ID: NAPP 9110 057
SOURCE_IMAGE_DATE: 1996 08 11
SOURCE_IMAGE_ID: NAPP 9106 302
SOURCE_IMAGE_DATE: 1996 08 07
SOURCE_IMAGE_ID: NAPP 9122 044
SOURCE_IMAGE_DATE: 1996 09 11
SOURCE_DEM_DATE: 1966 00 00
AGENCY: WESTERN MAPPING CENTER (WMC)
PRODUCER: UNDEFINED
PRODUCTION_SYSTEM: GIS/MAGIC
COMPRESSION: UNDEFINED
STANDARD_VERSION: 1996 12
METADATA_DATE: 1999 06 02
DATA_FILE_SIZE: 42587425
BYTE_COUNT: 5575
