FILENAME: O4610633.SWS.1008619.tif
QUADRANGLE_NAME: DONLEYS RESERVOIR
QUADRANT: SW
WEST_LONGITUDE: -107 0 0.00000
EAST_LONGITUDE: -106 56 15.00000
NORTH_LATITUDE: 46 26 15.00000
SOUTH_LATITUDE: 46 22 30.00000
PRODUCTION_DATE: 1999 5 10
RASTER_ORDER: LEFT_RIGHT/TOP_BOTTOM
BAND_ORGANIZATION: SINGLE FILE
BAND_CONTENT: BLACK&WHITE
BAND_CONTENT: UNDEFINED
BAND_CONTENT: UNDEFINED
BITS_PER_PIXEL: 8
SAMPLES_AND_LINES: 5627 7668
HORIZONTAL_DATUM: NAD83
HORIZONTAL_COORDINATE_SYSTEM: UTM
COORDINATE_ZONE: 13
HORIZONTAL_UNITS: METERS
HORIZONTAL_RESOLUTION: 1.00000
SECONDARY_HORIZONTAL_DATUM: NAD27
XY_ORIGIN: 345838.00000 5144903.00000
SECONDARY_XY_ORIGIN: 345880.25300 5144684.76400
NATION: US
NATION: "SCIENCE
STATE: MT
NW_QUAD_CORNER_XY: 346361.99500 5144602.06600
NE_QUAD_CORNER_XY: 351163.09100 5144482.47700
SE_QUAD_CORNERY_XY: 350992.94900 5137537.99300
SW_QUAD_CORNER_XY: 346186.36000 5137657.59500
SECONDARY_NW_QUAD_XY: 346357.31600 5144383.88100
SECONDARY_NE_QUAD_XY: 351158.55900 5144264.28800
SECONDARY_SE_QUAD_XY: 350988.41700 5137319.84000
SECONDARY_SW_QUAD_XY: 346181.68200 5137439.44600
RMSE_XY: 1.00000
IMAGE_SOURCE: BLACK AND WHITE FILM
SOURCE_IMAGE_ID: NAPP 10764 047
SOURCE_IMAGE_DATE: 1997 09 20
SOURCE_IMAGE_ID: NAPP 9099 119
SOURCE_IMAGE_DATE: 1996 07 14
SOURCE_IMAGE_ID: NAPP 10764 046
SOURCE_IMAGE_DATE: 1997 09 20
SOURCE_DEM_DATE: 1966 00 00
AGENCY: WESTERN MAPPING CENTER (WMC)
PRODUCER: UNDEFINED
PRODUCTION_SYSTEM: GIS/MAGIC
COMPRESSION: UNDEFINED
STANDARD_VERSION: 1996 12
METADATA_DATE: 1999 05 24
DATA_FILE_SIZE: 43153463
BYTE_COUNT: 5627
