FILENAME: O4610631.NES.1009114.tif
QUADRANGLE_NAME: HOBO COULEE
QUADRANT: NE
WEST_LONGITUDE: -106 11 15.00000
EAST_LONGITUDE: -106 7 30.00000
NORTH_LATITUDE: 46 37 30.00000
SOUTH_LATITUDE: 46 33 45.00000
PRODUCTION_DATE: 1999 5 20
RASTER_ORDER: LEFT_RIGHT/TOP_BOTTOM
BAND_ORGANIZATION: SINGLE FILE
BAND_CONTENT: BLACK&WHITE
BAND_CONTENT: UNDEFINED
BAND_CONTENT: UNDEFINED
BITS_PER_PIXEL: 8
SAMPLES_AND_LINES: 5536 7619
HORIZONTAL_DATUM: NAD83
HORIZONTAL_COORDINATE_SYSTEM: UTM
COORDINATE_ZONE: 13
HORIZONTAL_UNITS: METERS
HORIZONTAL_RESOLUTION: 1.00000
SECONDARY_HORIZONTAL_DATUM: NAD27
XY_ORIGIN: 408640.00000 5164479.00000
SECONDARY_XY_ORIGIN: 408681.33700 5164259.77800
NATION: US
NATION: "SCIENCE
STATE: MT
NW_QUAD_CORNER_XY: 409090.27600 5164177.91800
NE_QUAD_CORNER_XY: 413874.96300 5164107.72400
SE_QUAD_CORNERY_XY: 413775.88400 5157162.89400
SW_QUAD_CORNER_XY: 408985.69100 5157233.09600
SECONDARY_NW_QUAD_XY: 409087.49600 5163959.59100
SECONDARY_NE_QUAD_XY: 413872.33000 5163889.39400
SECONDARY_SE_QUAD_XY: 413773.25100 5156944.59800
SECONDARY_SW_QUAD_XY: 408982.91200 5157014.80200
RMSE_XY: 1.10000
IMAGE_SOURCE: BLACK AND WHITE FILM
SOURCE_IMAGE_ID: NAPP 9106 030
SOURCE_IMAGE_DATE: 1996 08 07
SOURCE_IMAGE_ID: NAPP 9106 103
SOURCE_IMAGE_DATE: 1996 08 07
SOURCE_IMAGE_ID: NAPP 9106 029
SOURCE_IMAGE_DATE: 1996 08 07
SOURCE_DEM_DATE: 1968 00 00
AGENCY: WESTERN MAPPING CENTER (WMC)
PRODUCER: UNDEFINED
PRODUCTION_SYSTEM: GIS/MAGIC
COMPRESSION: UNDEFINED
STANDARD_VERSION: 1996 12
METADATA_DATE: 1999 06 02
DATA_FILE_SIZE: 42184320
BYTE_COUNT: 5536
