FILENAME: O4610631.SWS.1009117.tif
QUADRANGLE_NAME: HOBO COULEE
QUADRANT: SW
WEST_LONGITUDE: -106 15 0.00000
EAST_LONGITUDE: -106 11 15.00000
NORTH_LATITUDE: 46 33 45.00000
SOUTH_LATITUDE: 46 30 0.00000
PRODUCTION_DATE: 1999 5 20
RASTER_ORDER: LEFT_RIGHT/TOP_BOTTOM
BAND_ORGANIZATION: SINGLE FILE
BAND_CONTENT: BLACK&WHITE
BAND_CONTENT: UNDEFINED
BAND_CONTENT: UNDEFINED
BITS_PER_PIXEL: 8
SAMPLES_AND_LINES: 5547 7622
HORIZONTAL_DATUM: NAD83
HORIZONTAL_COORDINATE_SYSTEM: UTM
COORDINATE_ZONE: 13
HORIZONTAL_UNITS: METERS
HORIZONTAL_RESOLUTION: 1.00000
SECONDARY_HORIZONTAL_DATUM: NAD27
XY_ORIGIN: 403740.00000 5157608.00000
SECONDARY_XY_ORIGIN: 403781.32400 5157388.81700
NATION: US
NATION: "SCIENCE
STATE: MT
NW_QUAD_CORNER_XY: 404195.50300 5157307.09500
NE_QUAD_CORNER_XY: 408985.69100 5157233.09600
SE_QUAD_CORNERY_XY: 408881.21500 5150288.34700
SW_QUAD_CORNER_XY: 404085.52700 5150362.35400
SECONDARY_NW_QUAD_XY: 404192.57800 5157088.80300
SECONDARY_NE_QUAD_XY: 408982.91200 5157014.80200
SECONDARY_SE_QUAD_XY: 408878.43600 5150070.08800
SECONDARY_SW_QUAD_XY: 404082.60200 5150144.09700
RMSE_XY: 1.50000
IMAGE_SOURCE: BLACK AND WHITE FILM
SOURCE_IMAGE_ID: NAPP 9106 105
SOURCE_IMAGE_DATE: 1996 08 07
SOURCE_IMAGE_ID: NAPP 9106 107
SOURCE_IMAGE_DATE: 1996 08 07
SOURCE_IMAGE_ID: NAPP 9106 029
SOURCE_IMAGE_DATE: 1996 08 07
SOURCE_DEM_DATE: 1968 00 00
AGENCY: WESTERN MAPPING CENTER (WMC)
PRODUCER: UNDEFINED
PRODUCTION_SYSTEM: GIS/MAGIC
COMPRESSION: UNDEFINED
STANDARD_VERSION: 1996 12
METADATA_DATE: 1999 06 02
DATA_FILE_SIZE: 42284781
BYTE_COUNT: 5547
