FILENAME: O4610629.SES.1008308.tif
QUADRANGLE_NAME: WILD HORSE PASS
QUADRANT: SE
WEST_LONGITUDE: -106 26 15.00000
EAST_LONGITUDE: -106 22 30.00000
NORTH_LATITUDE: 46 33 45.00000
SOUTH_LATITUDE: 46 30 0.00000
PRODUCTION_DATE: 1999 5 20
RASTER_ORDER: LEFT_RIGHT/TOP_BOTTOM
BAND_ORGANIZATION: SINGLE FILE
BAND_CONTENT: BLACK&WHITE
BAND_CONTENT: UNDEFINED
BAND_CONTENT: UNDEFINED
BITS_PER_PIXEL: 8
SAMPLES_AND_LINES: 5565 7634
HORIZONTAL_DATUM: NAD83
HORIZONTAL_COORDINATE_SYSTEM: UTM
COORDINATE_ZONE: 13
HORIZONTAL_UNITS: METERS
HORIZONTAL_RESOLUTION: 1.00000
SECONDARY_HORIZONTAL_DATUM: NAD27
XY_ORIGIN: 389352.00000 5157853.00000
SECONDARY_XY_ORIGIN: 389393.45200 5157633.92100
NATION: US
NATION: "SCIENCE
STATE: MT
NW_QUAD_CORNER_XY: 389824.97900 5157551.86600
NE_QUAD_CORNER_XY: 394615.14700 5157466.47900
SE_QUAD_CORNERY_XY: 394494.16900 5150521.75600
SW_QUAD_CORNER_XY: 389698.50000 5150607.15300
SECONDARY_NW_QUAD_XY: 389821.61500 5157333.58100
SECONDARY_NE_QUAD_XY: 394611.92900 5157248.19200
SECONDARY_SE_QUAD_XY: 394490.95200 5150303.50400
SECONDARY_SW_QUAD_XY: 389695.13700 5150388.90300
RMSE_XY: 1.10000
IMAGE_SOURCE: BLACK AND WHITE FILM
SOURCE_IMAGE_ID: NAPP 9106 255
SOURCE_IMAGE_DATE: 1996 08 07
SOURCE_IMAGE_ID: NAPP 9106 302
SOURCE_IMAGE_DATE: 1996 08 07
SOURCE_IMAGE_ID: NAPP 9106 257
SOURCE_IMAGE_DATE: 1996 08 07
SOURCE_DEM_DATE: 1968 00 00
AGENCY: WESTERN MAPPING CENTER (WMC)
PRODUCER: UNDEFINED
PRODUCTION_SYSTEM: GIS/MAGIC
COMPRESSION: UNDEFINED
STANDARD_VERSION: 1996 12
METADATA_DATE: 1999 06 02
DATA_FILE_SIZE: 42488775
BYTE_COUNT: 5565
