FILENAME: O4610628.NWS.1008271.tif
QUADRANGLE_NAME: ROUGH CREEK SE
QUADRANT: NW
WEST_LONGITUDE: -106 37 30.00000
EAST_LONGITUDE: -106 33 45.00000
NORTH_LATITUDE: 46 37 30.00000
SOUTH_LATITUDE: 46 33 45.00000
PRODUCTION_DATE: 1999 5 20
RASTER_ORDER: LEFT_RIGHT/TOP_BOTTOM
BAND_ORGANIZATION: SINGLE FILE
BAND_CONTENT: BLACK&WHITE
BAND_CONTENT: UNDEFINED
BAND_CONTENT: UNDEFINED
BITS_PER_PIXEL: 8
SAMPLES_AND_LINES: 5576 7645
HORIZONTAL_DATUM: NAD83
HORIZONTAL_COORDINATE_SYSTEM: UTM
COORDINATE_ZONE: 13
HORIZONTAL_UNITS: METERS
HORIZONTAL_RESOLUTION: 1.00000
SECONDARY_HORIZONTAL_DATUM: NAD27
XY_ORIGIN: 375108.00000 5165077.00000
SECONDARY_XY_ORIGIN: 375149.74900 5164858.02600
NATION: US
NATION: "SCIENCE
STATE: MT
NW_QUAD_CORNER_XY: 375597.65000 5164775.55600
NE_QUAD_CORNER_XY: 380382.28900 5164678.79100
SE_QUAD_CORNERY_XY: 380244.66400 5157734.02800
SW_QUAD_CORNER_XY: 375454.51700 5157830.80500
SECONDARY_NW_QUAD_XY: 375593.84700 5164557.24700
SECONDARY_NE_QUAD_XY: 380378.63200 5164460.47900
SECONDARY_SE_QUAD_XY: 380241.00700 5157515.75000
SECONDARY_SW_QUAD_XY: 375450.71400 5157612.52900
RMSE_XY: 1.20000
IMAGE_SOURCE: BLACK AND WHITE FILM
SOURCE_IMAGE_ID: NAPP 9110 218
SOURCE_IMAGE_DATE: 1996 08 11
SOURCE_IMAGE_ID: NAPP 9111 079
SOURCE_IMAGE_DATE: 1996 08 11
SOURCE_IMAGE_ID: NAPP 9110 219
SOURCE_IMAGE_DATE: 1996 08 11
SOURCE_DEM_DATE: 1968 00 00
AGENCY: WESTERN MAPPING CENTER (WMC)
PRODUCER: UNDEFINED
PRODUCTION_SYSTEM: GIS/MAGIC
COMPRESSION: UNDEFINED
STANDARD_VERSION: 1996 12
METADATA_DATE: 1999 06 02
DATA_FILE_SIZE: 42634096
BYTE_COUNT: 5576
