FILENAME: O4610627.SWS.1008257.tif
QUADRANGLE_NAME: ROUGH CREEK SW
QUADRANT: SW
WEST_LONGITUDE: -106 45 0.00000
EAST_LONGITUDE: -106 41 15.00000
NORTH_LATITUDE: 46 33 45.00000
SOUTH_LATITUDE: 46 30 0.00000
PRODUCTION_DATE: 1999 5 20
RASTER_ORDER: LEFT_RIGHT/TOP_BOTTOM
BAND_ORGANIZATION: SINGLE FILE
BAND_CONTENT: BLACK&WHITE
BAND_CONTENT: UNDEFINED
BAND_CONTENT: UNDEFINED
BITS_PER_PIXEL: 8
SAMPLES_AND_LINES: 5593 7653
HORIZONTAL_DATUM: NAD83
HORIZONTAL_COORDINATE_SYSTEM: UTM
COORDINATE_ZONE: 13
HORIZONTAL_UNITS: METERS
HORIZONTAL_RESOLUTION: 1.00000
SECONDARY_HORIZONTAL_DATUM: NAD27
XY_ORIGIN: 365373.00000 5158337.00000
SECONDARY_XY_ORIGIN: 365414.92700 5158118.24800
NATION: US
NATION: "SCIENCE
STATE: MT
NW_QUAD_CORNER_XY: 365874.24900 5158035.75000
NE_QUAD_CORNER_XY: 370664.37900 5157931.37900
SE_QUAD_CORNERY_XY: 370515.89300 5150986.70900
SW_QUAD_CORNER_XY: 365720.26000 5151091.09200
SECONDARY_NW_QUAD_XY: 365870.15300 5157817.48000
SECONDARY_NE_QUAD_XY: 370660.42900 5157713.10600
SECONDARY_SE_QUAD_XY: 370511.94400 5150768.47100
SECONDARY_SW_QUAD_XY: 365716.16500 5150872.85700
RMSE_XY: 1.00000
IMAGE_SOURCE: BLACK AND WHITE FILM
SOURCE_IMAGE_ID: NAPP 9111 238
SOURCE_IMAGE_DATE: 1996 08 11
SOURCE_IMAGE_ID: NAPP 9111 236
SOURCE_IMAGE_DATE: 1996 08 11
SOURCE_DEM_DATE: 1968 00 00
AGENCY: WESTERN MAPPING CENTER (WMC)
PRODUCER: UNDEFINED
PRODUCTION_SYSTEM: GIS/MAGIC
COMPRESSION: UNDEFINED
STANDARD_VERSION: 1996 12
METADATA_DATE: 1999 06 02
DATA_FILE_SIZE: 42808822
BYTE_COUNT: 5593
