FILENAME: O4610622.SES.1009100.tif
QUADRANGLE_NAME: ALKALI CREEK
QUADRANT: SE
WEST_LONGITUDE: -106 18 45.00000
EAST_LONGITUDE: -106 15 0.00000
NORTH_LATITUDE: 46 41 15.00000
SOUTH_LATITUDE: 46 37 30.00000
PRODUCTION_DATE: 1999 5 18
RASTER_ORDER: LEFT_RIGHT/TOP_BOTTOM
BAND_ORGANIZATION: SINGLE FILE
BAND_CONTENT: BLACK&WHITE
BAND_CONTENT: UNDEFINED
BAND_CONTENT: UNDEFINED
BITS_PER_PIXEL: 8
SAMPLES_AND_LINES: 5542 7627
HORIZONTAL_DATUM: NAD83
HORIZONTAL_COORDINATE_SYSTEM: UTM
COORDINATE_ZONE: 13
HORIZONTAL_UNITS: METERS
HORIZONTAL_RESOLUTION: 1.00000
SECONDARY_HORIZONTAL_DATUM: NAD27
XY_ORIGIN: 399175.00000 5171576.00000
SECONDARY_XY_ORIGIN: 399216.43800 5171356.78400
NATION: US
NATION: "SCIENCE
STATE: MT
NW_QUAD_CORNER_XY: 399636.63800 5171274.56900
NE_QUAD_CORNER_XY: 404415.80100 5171196.79400
SE_QUAD_CORNERY_XY: 404305.59500 5164251.90800
SW_QUAD_CORNER_XY: 399520.92000 5164329.69300
SECONDARY_NW_QUAD_XY: 399633.56500 5171056.21300
SECONDARY_NE_QUAD_XY: 404412.87400 5170978.43500
SECONDARY_SE_QUAD_XY: 404302.66900 5164033.58200
SECONDARY_SW_QUAD_XY: 399517.84700 5164111.37000
RMSE_XY: 0.90000
IMAGE_SOURCE: BLACK AND WHITE FILM
SOURCE_IMAGE_ID: NAPP 9106 128
SOURCE_IMAGE_DATE: 1996 08 07
SOURCE_IMAGE_ID: NAPP 9106 126
SOURCE_IMAGE_DATE: 1996 08 07
SOURCE_DEM_DATE: 1968 00 00
AGENCY: WESTERN MAPPING CENTER (WMC)
PRODUCER: UNDEFINED
PRODUCTION_SYSTEM: GIS/MAGIC
COMPRESSION: UNDEFINED
STANDARD_VERSION: 1996 12
METADATA_DATE: 1999 06 02
DATA_FILE_SIZE: 42274376
BYTE_COUNT: 5542
