FILENAME: O4610622.SWS.1009101.tif
QUADRANGLE_NAME: ALKALI CREEK
QUADRANT: SW
WEST_LONGITUDE: -106 22 30.00000
EAST_LONGITUDE: -106 18 45.00000
NORTH_LATITUDE: 46 41 15.00000
SOUTH_LATITUDE: 46 37 30.00000
PRODUCTION_DATE: 1999 5 18
RASTER_ORDER: LEFT_RIGHT/TOP_BOTTOM
BAND_ORGANIZATION: SINGLE FILE
BAND_CONTENT: BLACK&WHITE
BAND_CONTENT: UNDEFINED
BAND_CONTENT: UNDEFINED
BITS_PER_PIXEL: 8
SAMPLES_AND_LINES: 5548 7630
HORIZONTAL_DATUM: NAD83
HORIZONTAL_COORDINATE_SYSTEM: UTM
COORDINATE_ZONE: 13
HORIZONTAL_UNITS: METERS
HORIZONTAL_RESOLUTION: 1.00000
SECONDARY_HORIZONTAL_DATUM: NAD27
XY_ORIGIN: 394390.00000 5171657.00000
SECONDARY_XY_ORIGIN: 394431.47000 5171437.81200
NATION: US
NATION: "SCIENCE
STATE: MT
NW_QUAD_CORNER_XY: 394857.48100 5171356.14000
NE_QUAD_CORNER_XY: 399636.63800 5171274.56900
SE_QUAD_CORNERY_XY: 399520.92000 5164329.69300
SW_QUAD_CORNER_XY: 394736.25100 5164411.27400
SECONDARY_NW_QUAD_XY: 394854.26200 5171137.78600
SECONDARY_NE_QUAD_XY: 399633.56500 5171056.21300
SECONDARY_SE_QUAD_XY: 399517.84700 5164111.37000
SECONDARY_SW_QUAD_XY: 394733.03300 5164192.95300
RMSE_XY: 0.80000
IMAGE_SOURCE: BLACK AND WHITE FILM
SOURCE_IMAGE_ID: NAPP 9106 199
SOURCE_IMAGE_DATE: 1996 08 07
SOURCE_IMAGE_ID: NAPP 9106 259
SOURCE_IMAGE_DATE: 1996 08 07
SOURCE_IMAGE_ID: NAPP 9106 201
SOURCE_IMAGE_DATE: 1996 08 07
SOURCE_IMAGE_ID: NAPP 9106 197
SOURCE_IMAGE_DATE: 1996 08 07
SOURCE_IMAGE_ID: NAPP 9106 128
SOURCE_IMAGE_DATE: 1996 08 07
SOURCE_DEM_DATE: 1968 00 00
AGENCY: WESTERN MAPPING CENTER (WMC)
PRODUCER: UNDEFINED
PRODUCTION_SYSTEM: GIS/MAGIC
COMPRESSION: UNDEFINED
STANDARD_VERSION: 1996 12
METADATA_DATE: 1999 06 02
DATA_FILE_SIZE: 42336788
BYTE_COUNT: 5548
