FILENAME: O4610620.NWS.1008267.tif
QUADRANGLE_NAME: ROUGH CREEK NE
QUADRANT: NW
WEST_LONGITUDE: -106 37 30.00000
EAST_LONGITUDE: -106 33 45.00000
NORTH_LATITUDE: 46 45 0.00000
SOUTH_LATITUDE: 46 41 15.00000
PRODUCTION_DATE: 1999 5 18
RASTER_ORDER: LEFT_RIGHT/TOP_BOTTOM
BAND_ORGANIZATION: SINGLE FILE
BAND_CONTENT: BLACK&WHITE
BAND_CONTENT: UNDEFINED
BAND_CONTENT: UNDEFINED
BITS_PER_PIXEL: 8
SAMPLES_AND_LINES: 5565 7646
HORIZONTAL_DATUM: NAD83
HORIZONTAL_COORDINATE_SYSTEM: UTM
COORDINATE_ZONE: 13
HORIZONTAL_UNITS: METERS
HORIZONTAL_RESOLUTION: 1.00000
SECONDARY_HORIZONTAL_DATUM: NAD27
XY_ORIGIN: 375394.00000 5178967.00000
SECONDARY_XY_ORIGIN: 375435.82300 5178747.87100
NATION: US
NATION: "SCIENCE
STATE: MT
NW_QUAD_CORNER_XY: 375884.36300 5178665.26900
NE_QUAD_CORNER_XY: 380657.96900 5178568.52900
SE_QUAD_CORNERY_XY: 380520.05800 5171623.62500
SW_QUAD_CORNER_XY: 375740.93200 5171720.37800
SECONDARY_NW_QUAD_XY: 375880.55800 5178446.89500
SECONDARY_NE_QUAD_XY: 380654.31100 5178350.15100
SECONDARY_SE_QUAD_XY: 380516.40000 5171405.27900
SECONDARY_SW_QUAD_XY: 375737.12800 5171502.03500
RMSE_XY: 1.10000
IMAGE_SOURCE: BLACK AND WHITE FILM
SOURCE_IMAGE_ID: NAPP 9110 214
SOURCE_IMAGE_DATE: 1996 08 11
SOURCE_IMAGE_ID: NAPP 9111 084
SOURCE_IMAGE_DATE: 1996 08 11
SOURCE_DEM_DATE: 1968 00 00
AGENCY: WESTERN MAPPING CENTER (WMC)
PRODUCER: UNDEFINED
PRODUCTION_SYSTEM: GIS/MAGIC
COMPRESSION: UNDEFINED
STANDARD_VERSION: 1996 12
METADATA_DATE: 1999 06 02
DATA_FILE_SIZE: 42555555
BYTE_COUNT: 5565
