FILENAME: O4610616.NES.1009295.tif
QUADRANGLE_NAME: CROW ROCK SE
QUADRANT: NE
WEST_LONGITUDE: -106 3 45.00000
EAST_LONGITUDE: -106 0 0.00000
NORTH_LATITUDE: 46 52 30.00000
SOUTH_LATITUDE: 46 48 45.00000
PRODUCTION_DATE: 1999 5 18
RASTER_ORDER: LEFT_RIGHT/TOP_BOTTOM
BAND_ORGANIZATION: SINGLE FILE
BAND_CONTENT: BLACK&WHITE
BAND_CONTENT: UNDEFINED
BAND_CONTENT: UNDEFINED
BITS_PER_PIXEL: 8
SAMPLES_AND_LINES: 5503 7612
HORIZONTAL_DATUM: NAD83
HORIZONTAL_COORDINATE_SYSTEM: UTM
COORDINATE_ZONE: 13
HORIZONTAL_UNITS: METERS
HORIZONTAL_RESOLUTION: 1.00000
SECONDARY_HORIZONTAL_DATUM: NAD27
XY_ORIGIN: 418596.00000 5192123.00000
SECONDARY_XY_ORIGIN: 418637.49600 5191903.61600
NATION: US
NATION: "SCIENCE
STATE: MT
NW_QUAD_CORNER_XY: 419034.92500 5191821.41500
NE_QUAD_CORNER_XY: 423797.54500 5191758.84300
SE_QUAD_CORNERY_XY: 423709.11000 5184813.70200
SW_QUAD_CORNER_XY: 418940.96200 5184876.28200
SECONDARY_NW_QUAD_XY: 419032.43600 5191602.95500
SECONDARY_NE_QUAD_XY: 423795.20200 5191540.38200
SECONDARY_SE_QUAD_XY: 423706.76800 5184595.27100
SECONDARY_SW_QUAD_XY: 418938.47400 5184657.85300
RMSE_XY: 1.80000
IMAGE_SOURCE: BLACK AND WHITE FILM
SOURCE_IMAGE_ID: NAPP 9089 062
SOURCE_IMAGE_DATE: 1996 07 07
SOURCE_IMAGE_ID: NAPP 9090 045
SOURCE_IMAGE_DATE: 1996 07 07
SOURCE_IMAGE_ID: NAPP 9089 061
SOURCE_IMAGE_DATE: 1996 07 07
SOURCE_IMAGE_ID: NAPP 9089 063
SOURCE_IMAGE_DATE: 1996 07 07
SOURCE_DEM_DATE: 1988 00 00
AGENCY: WESTERN MAPPING CENTER (WMC)
PRODUCER: UNDEFINED
PRODUCTION_SYSTEM: GIS/MAGIC
COMPRESSION: UNDEFINED
STANDARD_VERSION: 1996 12
METADATA_DATE: 1999 06 02
DATA_FILE_SIZE: 41894339
BYTE_COUNT: 5503
