FILENAME: O4610615.SWS.1009109.tif
QUADRANGLE_NAME: ROCK SPRINGS SCHOOL
QUADRANT: SW
WEST_LONGITUDE: -106 15 0.00000
EAST_LONGITUDE: -106 11 15.00000
NORTH_LATITUDE: 46 48 45.00000
SOUTH_LATITUDE: 46 45 0.00000
PRODUCTION_DATE: 1999 5 18
RASTER_ORDER: LEFT_RIGHT/TOP_BOTTOM
BAND_ORGANIZATION: SINGLE FILE
BAND_CONTENT: BLACK&WHITE
BAND_CONTENT: UNDEFINED
BAND_CONTENT: UNDEFINED
BITS_PER_PIXEL: 8
SAMPLES_AND_LINES: 5526 7623
HORIZONTAL_DATUM: NAD83
HORIZONTAL_COORDINATE_SYSTEM: UTM
COORDINATE_ZONE: 13
HORIZONTAL_UNITS: METERS
HORIZONTAL_RESOLUTION: 1.00000
SECONDARY_HORIZONTAL_DATUM: NAD27
XY_ORIGIN: 404180.00000 5185388.00000
SECONDARY_XY_ORIGIN: 404221.50100 5185168.72100
NATION: US
NATION: "SCIENCE
STATE: MT
NW_QUAD_CORNER_XY: 404636.55600 5185086.78400
NE_QUAD_CORNER_XY: 409404.68500 5185012.82300
SE_QUAD_CORNERY_XY: 409299.77300 5178067.78200
SW_QUAD_CORNER_XY: 404526.12100 5178141.75300
SECONDARY_NW_QUAD_XY: 404633.62800 5184868.36200
SECONDARY_NE_QUAD_XY: 409401.90400 5184794.39800
SECONDARY_SE_QUAD_XY: 409296.99300 5177849.38900
SECONDARY_SW_QUAD_XY: 404523.19400 5177923.36200
RMSE_XY: 1.20000
IMAGE_SOURCE: BLACK AND WHITE FILM
SOURCE_IMAGE_ID: NAPP 9106 097
SOURCE_IMAGE_DATE: 1996 08 07
SOURCE_IMAGE_ID: NAPP 9106 132
SOURCE_IMAGE_DATE: 1996 08 07
SOURCE_IMAGE_ID: NAPP 9106 098
SOURCE_IMAGE_DATE: 1996 08 07
SOURCE_IMAGE_ID: NAPP 9106 096
SOURCE_IMAGE_DATE: 1996 08 07
SOURCE_DEM_DATE: 1997 01 01
AGENCY: WESTERN MAPPING CENTER (WMC)
PRODUCER: UNDEFINED
PRODUCTION_SYSTEM: GIS/MAGIC
COMPRESSION: UNDEFINED
STANDARD_VERSION: 1996 12
METADATA_DATE: 1999 06 02
DATA_FILE_SIZE: 42130224
BYTE_COUNT: 5526
