FILENAME: O4610614.NES.1009094.tif
QUADRANGLE_NAME: RED BUTTES
QUADRANT: NE
WEST_LONGITUDE: -106 18 45.00000
EAST_LONGITUDE: -106 15 0.00000
NORTH_LATITUDE: 46 52 30.00000
SOUTH_LATITUDE: 46 48 45.00000
PRODUCTION_DATE: 1999 5 18
RASTER_ORDER: LEFT_RIGHT/TOP_BOTTOM
BAND_ORGANIZATION: SINGLE FILE
BAND_CONTENT: BLACK&WHITE
BAND_CONTENT: UNDEFINED
BAND_CONTENT: UNDEFINED
BITS_PER_PIXEL: 8
SAMPLES_AND_LINES: 5527 7627
HORIZONTAL_DATUM: NAD83
HORIZONTAL_COORDINATE_SYSTEM: UTM
COORDINATE_ZONE: 13
HORIZONTAL_UNITS: METERS
HORIZONTAL_RESOLUTION: 1.00000
SECONDARY_HORIZONTAL_DATUM: NAD27
XY_ORIGIN: 399522.00000 5192411.00000
SECONDARY_XY_ORIGIN: 399563.56900 5192191.73000
NATION: US
NATION: "SCIENCE
STATE: MT
NW_QUAD_CORNER_XY: 399984.51200 5192109.63200
NE_QUAD_CORNER_XY: 404747.10500 5192031.88800
SE_QUAD_CORNERY_XY: 404636.55600 5185086.78400
SW_QUAD_CORNER_XY: 399868.43400 5185164.53900
SECONDARY_NW_QUAD_XY: 399981.43800 5191891.18200
SECONDARY_NE_QUAD_XY: 404744.17700 5191813.43500
SECONDARY_SE_QUAD_XY: 404633.62800 5184868.36200
SECONDARY_SW_QUAD_XY: 399865.36000 5184946.11900
RMSE_XY: 1.50000
IMAGE_SOURCE: BLACK AND WHITE FILM
SOURCE_IMAGE_ID: NAPP 9106 095
SOURCE_IMAGE_DATE: 1996 08 07
SOURCE_IMAGE_ID: NAPP 9106 193
SOURCE_IMAGE_DATE: 1996 08 07
SOURCE_IMAGE_ID: NAPP 9106 132
SOURCE_IMAGE_DATE: 1996 08 07
SOURCE_IMAGE_ID: NAPP 9106 133
SOURCE_IMAGE_DATE: 1996 08 07
SOURCE_IMAGE_ID: NAPP 9106 135
SOURCE_IMAGE_DATE: 1996 08 07
SOURCE_DEM_DATE: 1988 00 00
AGENCY: WESTERN MAPPING CENTER (WMC)
PRODUCER: UNDEFINED
PRODUCTION_SYSTEM: GIS/MAGIC
COMPRESSION: UNDEFINED
STANDARD_VERSION: 1996 12
METADATA_DATE: 1999 06 02
DATA_FILE_SIZE: 42159956
BYTE_COUNT: 5527
